BEGIN:VCALENDAR
VERSION:2.0
PRODID:-//Visit Lynton &amp; Lynmouth - ECPv6.15.20//NONSGML v1.0//EN
CALSCALE:GREGORIAN
METHOD:PUBLISH
X-ORIGINAL-URL:https://visitlyntonandlynmouth.com
X-WR-CALDESC:Events for Visit Lynton &amp; Lynmouth
REFRESH-INTERVAL;VALUE=DURATION:PT1H
X-Robots-Tag:noindex
X-PUBLISHED-TTL:PT1H
BEGIN:VTIMEZONE
TZID:Europe/London
BEGIN:DAYLIGHT
TZOFFSETFROM:+0000
TZOFFSETTO:+0100
TZNAME:BST
DTSTART:20250330T010000
END:DAYLIGHT
BEGIN:STANDARD
TZOFFSETFROM:+0100
TZOFFSETTO:+0000
TZNAME:GMT
DTSTART:20251026T010000
END:STANDARD
BEGIN:DAYLIGHT
TZOFFSETFROM:+0000
TZOFFSETTO:+0100
TZNAME:BST
DTSTART:20260329T010000
END:DAYLIGHT
BEGIN:STANDARD
TZOFFSETFROM:+0100
TZOFFSETTO:+0000
TZNAME:GMT
DTSTART:20261025T010000
END:STANDARD
BEGIN:DAYLIGHT
TZOFFSETFROM:+0000
TZOFFSETTO:+0100
TZNAME:BST
DTSTART:20270328T010000
END:DAYLIGHT
BEGIN:STANDARD
TZOFFSETFROM:+0100
TZOFFSETTO:+0000
TZNAME:GMT
DTSTART:20271031T010000
END:STANDARD
END:VTIMEZONE
BEGIN:VEVENT
DTSTART;VALUE=DATE:20260418
DTEND;VALUE=DATE:20260427
DTSTAMP:20260422T171704
CREATED:20260415T145714Z
LAST-MODIFIED:20260415T145714Z
UID:10008680-1776470400-1777247999@visitlyntonandlynmouth.com
SUMMARY:Postcode Week at Lynton & Barnstaple Railway\, Woody Bay
DESCRIPTION: Postcode Week – Special Local Offer! \n\nJoin us for Postcode Week\, running on selected days between 18th – 26th April\, and enjoy a fantastic local travel offer!\n EX & TA postcode residents can ride for just £2.00 return Kids under 14 travel FREE!\nSit back\, relax\, and take in the scenery on a charming 2-mile return journey (approx. 20 minutes). Each £2 ticket includes one round trip\, so don’t miss out!\n\n Running Days: 18th\, 19th\, 21st\, 22nd\, 23rd\, 25th & 26th April\nDeparture Times (Woody Bay → Killington Lane):10:45 | 11:30 | 12:15 | 13:30 | 14:15 | 15:00 | 16:00\n\n Booking Info:Tickets can be pre-booked online via our website or purchased on the day from our Station Shop.\nLocal Fare (EX & TA Postcodes)• Adult / Young Adult / Student: £2.00• Child (under 14): FREE• Disabled Passenger: £2.00• Carer: FREE\n\n Important: Please bring proof of residency (utility bill or photo ID with address) to claim your £2 fare.\n\nVisiting the Area?\nYou’re still very welcome! Standard fares apply\, and your ticket is valid all day\, so you can enjoy multiple journeys.\nStandard Fare:• Adult: £11.50• Child (under 14): FREE• Young Adult (14–21) / Student: £8.50• Disabled Passenger: £8.50• Carer: FREE• Family (2 adults + up to 3 young adults/students): £32.00\n\n Tearoom & Station ShopOpen daily from 10:00 – 16:00\, serving hot & cold drinks\, soup\, pasties\, sausage rolls\, cakes\, and cream teas. Browse our station shop for gifts and souvenirs!\n\n First Class Upgrade (On the Day Only)Upgrade your journey for just £3.50 per person and enjoy extra comfort in our First Class compartments (limited availability\, first come first served).\n\nPostcode Week: https://www.lynton-rail.co.uk/events/view/postcode-week-2\n Don’t miss this brilliant local offer! Plan your visit today and enjoy a nostalgic railway experience!
URL:https://visitlyntonandlynmouth.com/event/postcode-week-at-lynton-barnstaple-railway-woody-bay/
LOCATION:Lynton & Barnstaple Railway\, Woody Bay Station\, Martinhoe Cross\, Parracombe\, EX31 4RA\, United Kingdom
CATEGORIES:Steam Trains,Family Event
ATTACH;FMTTYPE=image/jpeg:https://visitlyntonandlynmouth.com/wp-content/uploads/2026/04/668834374_1615168720588577_6101928272244626779_n.jpg
ORGANIZER;CN="Lynton & Barnstaple Railway":MAILTO:enquiries@lynton-rail.co.uk
END:VEVENT
BEGIN:VEVENT
DTSTART;TZID=Europe/London:20260423T100000
DTEND;TZID=Europe/London:20260423T160000
DTSTAMP:20260422T171704
CREATED:20260211T193928Z
LAST-MODIFIED:20260320T201556Z
UID:10008455-1776938400-1776960000@visitlyntonandlynmouth.com
SUMMARY:Postcode Week at Woody Bay Station
DESCRIPTION:Postcode Week (Running days between the 18th – 26th of April ) \nDuring our service running days between the 18th – 26th of April EX & TA postcode residents are invited to enjoy travel for just £2.00. Plus kids under 14 years travel for free! For just £2.00 sit back and enjoy a relaxing train ride\, passengers are entitled to one round trip only. We strongly recommend pre-booking a date and train service to avoid disappointment\, however any remaining tickets will be available on the day. \nYou will need to ensure to bring along proof of residency (a utility bill or similar) or photo ID that includes your address like a drivers license to claim your £2 ride. \nLocals Fare \n\nLocal (Adult / Young Adult / Student ): £2.00\nLocal Child: FREE\nLocal Disabled Passenger: £2.00\nLocal Carer: Free\n\nHolidaying in the area during this time? You can still enjoy visiting us and travel for the standard fare. Your ticket will be valid all day so you may be able to take part in multiple journeys. Please ensure to select the standard fare option\, you will need to select a service time when booking however like mentioned before your ticket is valid for all services that day. \nStandard Fare \n\nAdult: £11.50\nChild (under 14 years): FREE\nYoung Adult – (aged 14 – 21)/ Student ( Student ID required) :£8.50\nDisabled Passenger: £8.50\nCarer: Free\nFamily – (2 adults and up to 3 student/young adult): £32.00\n\nPostcode Week Running Days: 18th\, 19th\, 21st\, 22nd\, 23rd\, 25th and 26th of April  \nDeparture Train Times From Woody Bay Station to Killington Lane: \n10.45 – 11.30 – 12.15 – 13.30 – 14.15 – 15.00 – 16.00. \n2 mile return journey (approximately 20 minutes)
URL:https://visitlyntonandlynmouth.com/event/postcode-week-at-woody-bay/2026-04-23/
LOCATION:Lynton & Barnstaple Railway\, Woody Bay Station\, Martinhoe Cross\, Parracombe\, EX31 4RA\, United Kingdom
CATEGORIES:Wellbeing & Health,Family Event
ATTACH;FMTTYPE=image/jpeg:https://visitlyntonandlynmouth.com/wp-content/uploads/2026/02/70aafedb-93ae-4336-a7b5-e31dde048d4b.jpg
ORGANIZER;CN="Lynton & Barnstaple Railway":MAILTO:enquiries@lynton-rail.co.uk
END:VEVENT
BEGIN:VEVENT
DTSTART;TZID=Europe/London:20260425T100000
DTEND;TZID=Europe/London:20260425T160000
DTSTAMP:20260422T171704
CREATED:20260211T193928Z
LAST-MODIFIED:20260320T201556Z
UID:10008456-1777111200-1777132800@visitlyntonandlynmouth.com
SUMMARY:Postcode Week at Woody Bay Station
DESCRIPTION:Postcode Week (Running days between the 18th – 26th of April ) \nDuring our service running days between the 18th – 26th of April EX & TA postcode residents are invited to enjoy travel for just £2.00. Plus kids under 14 years travel for free! For just £2.00 sit back and enjoy a relaxing train ride\, passengers are entitled to one round trip only. We strongly recommend pre-booking a date and train service to avoid disappointment\, however any remaining tickets will be available on the day. \nYou will need to ensure to bring along proof of residency (a utility bill or similar) or photo ID that includes your address like a drivers license to claim your £2 ride. \nLocals Fare \n\nLocal (Adult / Young Adult / Student ): £2.00\nLocal Child: FREE\nLocal Disabled Passenger: £2.00\nLocal Carer: Free\n\nHolidaying in the area during this time? You can still enjoy visiting us and travel for the standard fare. Your ticket will be valid all day so you may be able to take part in multiple journeys. Please ensure to select the standard fare option\, you will need to select a service time when booking however like mentioned before your ticket is valid for all services that day. \nStandard Fare \n\nAdult: £11.50\nChild (under 14 years): FREE\nYoung Adult – (aged 14 – 21)/ Student ( Student ID required) :£8.50\nDisabled Passenger: £8.50\nCarer: Free\nFamily – (2 adults and up to 3 student/young adult): £32.00\n\nPostcode Week Running Days: 18th\, 19th\, 21st\, 22nd\, 23rd\, 25th and 26th of April  \nDeparture Train Times From Woody Bay Station to Killington Lane: \n10.45 – 11.30 – 12.15 – 13.30 – 14.15 – 15.00 – 16.00. \n2 mile return journey (approximately 20 minutes)
URL:https://visitlyntonandlynmouth.com/event/postcode-week-at-woody-bay/2026-04-25/
LOCATION:Lynton & Barnstaple Railway\, Woody Bay Station\, Martinhoe Cross\, Parracombe\, EX31 4RA\, United Kingdom
CATEGORIES:Wellbeing & Health,Family Event
ATTACH;FMTTYPE=image/jpeg:https://visitlyntonandlynmouth.com/wp-content/uploads/2026/02/70aafedb-93ae-4336-a7b5-e31dde048d4b.jpg
ORGANIZER;CN="Lynton & Barnstaple Railway":MAILTO:enquiries@lynton-rail.co.uk
END:VEVENT
BEGIN:VEVENT
DTSTART;TZID=Europe/London:20260426T100000
DTEND;TZID=Europe/London:20260426T160000
DTSTAMP:20260422T171704
CREATED:20260211T193928Z
LAST-MODIFIED:20260320T201556Z
UID:10008457-1777197600-1777219200@visitlyntonandlynmouth.com
SUMMARY:Postcode Week at Woody Bay Station
DESCRIPTION:Postcode Week (Running days between the 18th – 26th of April ) \nDuring our service running days between the 18th – 26th of April EX & TA postcode residents are invited to enjoy travel for just £2.00. Plus kids under 14 years travel for free! For just £2.00 sit back and enjoy a relaxing train ride\, passengers are entitled to one round trip only. We strongly recommend pre-booking a date and train service to avoid disappointment\, however any remaining tickets will be available on the day. \nYou will need to ensure to bring along proof of residency (a utility bill or similar) or photo ID that includes your address like a drivers license to claim your £2 ride. \nLocals Fare \n\nLocal (Adult / Young Adult / Student ): £2.00\nLocal Child: FREE\nLocal Disabled Passenger: £2.00\nLocal Carer: Free\n\nHolidaying in the area during this time? You can still enjoy visiting us and travel for the standard fare. Your ticket will be valid all day so you may be able to take part in multiple journeys. Please ensure to select the standard fare option\, you will need to select a service time when booking however like mentioned before your ticket is valid for all services that day. \nStandard Fare \n\nAdult: £11.50\nChild (under 14 years): FREE\nYoung Adult – (aged 14 – 21)/ Student ( Student ID required) :£8.50\nDisabled Passenger: £8.50\nCarer: Free\nFamily – (2 adults and up to 3 student/young adult): £32.00\n\nPostcode Week Running Days: 18th\, 19th\, 21st\, 22nd\, 23rd\, 25th and 26th of April  \nDeparture Train Times From Woody Bay Station to Killington Lane: \n10.45 – 11.30 – 12.15 – 13.30 – 14.15 – 15.00 – 16.00. \n2 mile return journey (approximately 20 minutes)
URL:https://visitlyntonandlynmouth.com/event/postcode-week-at-woody-bay/2026-04-26/
LOCATION:Lynton & Barnstaple Railway\, Woody Bay Station\, Martinhoe Cross\, Parracombe\, EX31 4RA\, United Kingdom
CATEGORIES:Wellbeing & Health,Family Event
ATTACH;FMTTYPE=image/jpeg:https://visitlyntonandlynmouth.com/wp-content/uploads/2026/02/70aafedb-93ae-4336-a7b5-e31dde048d4b.jpg
ORGANIZER;CN="Lynton & Barnstaple Railway":MAILTO:enquiries@lynton-rail.co.uk
END:VEVENT
BEGIN:VEVENT
DTSTART;TZID=Europe/London:20260517T100000
DTEND;TZID=Europe/London:20260517T160000
DTSTAMP:20260422T171704
CREATED:20260211T194207Z
LAST-MODIFIED:20260306T171048Z
UID:10008458-1779012000-1779033600@visitlyntonandlynmouth.com
SUMMARY:Mixed Traction Day at Woody Bay Station
DESCRIPTION:Engines in our steam and diesel fleet will be in service giving the chance to ride behind some unusual traction.
URL:https://visitlyntonandlynmouth.com/event/mixed-traction-day-at-woody-bay/
LOCATION:Lynton & Barnstaple Railway\, Woody Bay Station\, Martinhoe Cross\, Parracombe\, EX31 4RA\, United Kingdom
CATEGORIES:Steam Trains
ATTACH;FMTTYPE=image/jpeg:https://visitlyntonandlynmouth.com/wp-content/uploads/2026/02/find_us_lynton_barnstaple_railway.jpg
ORGANIZER;CN="Lynton & Barnstaple Railway":MAILTO:enquiries@lynton-rail.co.uk
END:VEVENT
BEGIN:VEVENT
DTSTART;TZID=Europe/London:20260530T100000
DTEND;TZID=Europe/London:20260530T160000
DTSTAMP:20260422T171704
CREATED:20260211T194738Z
LAST-MODIFIED:20260306T153846Z
UID:10008459-1780135200-1780156800@visitlyntonandlynmouth.com
SUMMARY:Meet Henry Day at Woody Bay Station
DESCRIPTION:Bring your four legged friend to meet Henry our famous railway collecting dog at ‘Woofy Bay’.
URL:https://visitlyntonandlynmouth.com/event/meet-henry-day-at-woody-bay-station/
LOCATION:Lynton & Barnstaple Railway\, Woody Bay Station\, Martinhoe Cross\, Parracombe\, EX31 4RA\, United Kingdom
CATEGORIES:Dogs,Steam Trains
ATTACH;FMTTYPE=image/jpeg:https://visitlyntonandlynmouth.com/wp-content/uploads/2026/02/find_us_lynton_barnstaple_railway-1.jpg
ORGANIZER;CN="Lynton & Barnstaple Railway":MAILTO:enquiries@lynton-rail.co.uk
END:VEVENT
BEGIN:VEVENT
DTSTART;TZID=Europe/London:20260621T100000
DTEND;TZID=Europe/London:20260621T160000
DTSTAMP:20260422T171704
CREATED:20260211T194955Z
LAST-MODIFIED:20260329T110000Z
UID:10008460-1782036000-1782057600@visitlyntonandlynmouth.com
SUMMARY:Father's Day at Woody Bay Station
DESCRIPTION:Footplate rides and shed tours will be pre-bookable for Dad’s special day \nCheck prices of rail fares on their website.
URL:https://visitlyntonandlynmouth.com/event/fathers-day-at-woody-bay-station/
LOCATION:Lynton & Barnstaple Railway\, Woody Bay Station\, Martinhoe Cross\, Parracombe\, EX31 4RA\, United Kingdom
CATEGORIES:Steam Trains,Family Event
ATTACH;FMTTYPE=image/jpeg:https://visitlyntonandlynmouth.com/wp-content/uploads/2026/02/find_us_lynton_barnstaple_railway.jpg
ORGANIZER;CN="Lynton & Barnstaple Railway":MAILTO:enquiries@lynton-rail.co.uk
END:VEVENT
BEGIN:VEVENT
DTSTART;TZID=Europe/London:20260822T100000
DTEND;TZID=Europe/London:20260822T160000
DTSTAMP:20260422T171704
CREATED:20260211T195610Z
LAST-MODIFIED:20260306T150022Z
UID:10008461-1787392800-1787414400@visitlyntonandlynmouth.com
SUMMARY:Rails and Dinosaur Scales at Woody Bay Station
DESCRIPTION:This very popular event returns with roaring summertime activities at Woody Bay\, get close-up to our visiting dinosaurs!
URL:https://visitlyntonandlynmouth.com/event/rails-and-dinosaur-scales-at-woody-bay-station/2026-08-22/
LOCATION:Lynton & Barnstaple Railway\, Woody Bay Station\, Martinhoe Cross\, Parracombe\, EX31 4RA\, United Kingdom
CATEGORIES:Half Term,Kids,Steam Trains,Family Event
ATTACH;FMTTYPE=image/jpeg:https://visitlyntonandlynmouth.com/wp-content/uploads/2026/02/find_us_lynton_barnstaple_railway-1.jpg
ORGANIZER;CN="Lynton & Barnstaple Railway":MAILTO:enquiries@lynton-rail.co.uk
END:VEVENT
BEGIN:VEVENT
DTSTART;TZID=Europe/London:20260823T100000
DTEND;TZID=Europe/London:20260823T160000
DTSTAMP:20260422T171705
CREATED:20260211T195610Z
LAST-MODIFIED:20260306T150022Z
UID:10008462-1787479200-1787500800@visitlyntonandlynmouth.com
SUMMARY:Rails and Dinosaur Scales at Woody Bay Station
DESCRIPTION:This very popular event returns with roaring summertime activities at Woody Bay\, get close-up to our visiting dinosaurs!
URL:https://visitlyntonandlynmouth.com/event/rails-and-dinosaur-scales-at-woody-bay-station/2026-08-23/
LOCATION:Lynton & Barnstaple Railway\, Woody Bay Station\, Martinhoe Cross\, Parracombe\, EX31 4RA\, United Kingdom
CATEGORIES:Half Term,Kids,Steam Trains,Family Event
ATTACH;FMTTYPE=image/jpeg:https://visitlyntonandlynmouth.com/wp-content/uploads/2026/02/find_us_lynton_barnstaple_railway-1.jpg
ORGANIZER;CN="Lynton & Barnstaple Railway":MAILTO:enquiries@lynton-rail.co.uk
END:VEVENT
BEGIN:VEVENT
DTSTART;TZID=Europe/London:20260926T100000
DTEND;TZID=Europe/London:20260926T160000
DTSTAMP:20260422T171705
CREATED:20260211T195849Z
LAST-MODIFIED:20260306T144910Z
UID:10008463-1790416800-1790438400@visitlyntonandlynmouth.com
SUMMARY:Lynton and Barnstaple Railway Annual Gala 2026
DESCRIPTION:Details to follow
URL:https://visitlyntonandlynmouth.com/event/lynton-and-barnstaple-railway-annual-gala-2026/2026-09-26/
LOCATION:Lynton & Barnstaple Railway\, Woody Bay Station\, Martinhoe Cross\, Parracombe\, EX31 4RA\, United Kingdom
CATEGORIES:Steam Trains,Social,Family Event
ATTACH;FMTTYPE=image/jpeg:https://visitlyntonandlynmouth.com/wp-content/uploads/2026/02/find_us_lynton_barnstaple_railway-1.jpg
ORGANIZER;CN="Lynton & Barnstaple Railway":MAILTO:enquiries@lynton-rail.co.uk
END:VEVENT
BEGIN:VEVENT
DTSTART;TZID=Europe/London:20260927T100000
DTEND;TZID=Europe/London:20260927T160000
DTSTAMP:20260422T171705
CREATED:20260211T195849Z
LAST-MODIFIED:20260306T144910Z
UID:10008464-1790503200-1790524800@visitlyntonandlynmouth.com
SUMMARY:Lynton and Barnstaple Railway Annual Gala 2026
DESCRIPTION:Details to follow
URL:https://visitlyntonandlynmouth.com/event/lynton-and-barnstaple-railway-annual-gala-2026/2026-09-27/
LOCATION:Lynton & Barnstaple Railway\, Woody Bay Station\, Martinhoe Cross\, Parracombe\, EX31 4RA\, United Kingdom
CATEGORIES:Steam Trains,Social,Family Event
ATTACH;FMTTYPE=image/jpeg:https://visitlyntonandlynmouth.com/wp-content/uploads/2026/02/find_us_lynton_barnstaple_railway-1.jpg
ORGANIZER;CN="Lynton & Barnstaple Railway":MAILTO:enquiries@lynton-rail.co.uk
END:VEVENT
BEGIN:VEVENT
DTSTART;TZID=Europe/London:20261115T100000
DTEND;TZID=Europe/London:20261115T160000
DTSTAMP:20260422T171705
CREATED:20260211T200443Z
LAST-MODIFIED:20260306T144007Z
UID:10008466-1794736800-1794758400@visitlyntonandlynmouth.com
SUMMARY:Model Railway Show at Woody Bay Station
DESCRIPTION:Details to follow
URL:https://visitlyntonandlynmouth.com/event/model-railway-show-at-woody-bay-station/
LOCATION:Lynton & Barnstaple Railway\, Woody Bay Station\, Martinhoe Cross\, Parracombe\, EX31 4RA\, United Kingdom
CATEGORIES:Kids,Steam Trains,Family Event
ATTACH;FMTTYPE=image/jpeg:https://visitlyntonandlynmouth.com/wp-content/uploads/2026/02/find_us_lynton_barnstaple_railway.jpg
ORGANIZER;CN="Lynton & Barnstaple Railway":MAILTO:enquiries@lynton-rail.co.uk
END:VEVENT
BEGIN:VEVENT
DTSTART;TZID=Europe/London:20261205T100000
DTEND;TZID=Europe/London:20261205T160000
DTSTAMP:20260422T171705
CREATED:20260211T200659Z
LAST-MODIFIED:20260306T183630Z
UID:10008467-1796464800-1796486400@visitlyntonandlynmouth.com
SUMMARY:Quiet Santa at Woody Bay Station
DESCRIPTION:Details to follow
URL:https://visitlyntonandlynmouth.com/event/quiet-santa-at-woody-bay-station/
LOCATION:Lynton & Barnstaple Railway\, Woody Bay Station\, Martinhoe Cross\, Parracombe\, EX31 4RA\, United Kingdom
CATEGORIES:Christmas,Kids,Steam Trains,Family Event
ATTACH;FMTTYPE=image/jpeg:https://visitlyntonandlynmouth.com/wp-content/uploads/2026/02/find_us_lynton_barnstaple_railway.jpg
ORGANIZER;CN="Lynton & Barnstaple Railway":MAILTO:enquiries@lynton-rail.co.uk
END:VEVENT
BEGIN:VEVENT
DTSTART;TZID=Europe/London:20261212T100000
DTEND;TZID=Europe/London:20261212T160000
DTSTAMP:20260422T171705
CREATED:20260211T201059Z
LAST-MODIFIED:20260302T160152Z
UID:10008468-1797069600-1797091200@visitlyntonandlynmouth.com
SUMMARY:Santa Specials at Woody Bay Station
DESCRIPTION:Details to follow
URL:https://visitlyntonandlynmouth.com/event/santa-specials-at-woody-bay-station/2026-12-12/
LOCATION:Lynton & Barnstaple Railway\, Woody Bay Station\, Martinhoe Cross\, Parracombe\, EX31 4RA\, United Kingdom
CATEGORIES:Christmas,Half Term,Steam Trains,Family Event
ATTACH;FMTTYPE=image/jpeg:https://visitlyntonandlynmouth.com/wp-content/uploads/2026/02/find_us_lynton_barnstaple_railway.jpg
ORGANIZER;CN="Lynton & Barnstaple Railway":MAILTO:enquiries@lynton-rail.co.uk
END:VEVENT
BEGIN:VEVENT
DTSTART;TZID=Europe/London:20261213T100000
DTEND;TZID=Europe/London:20261213T160000
DTSTAMP:20260422T171705
CREATED:20260211T201059Z
LAST-MODIFIED:20260302T160152Z
UID:10008469-1797156000-1797177600@visitlyntonandlynmouth.com
SUMMARY:Santa Specials at Woody Bay Station
DESCRIPTION:Details to follow
URL:https://visitlyntonandlynmouth.com/event/santa-specials-at-woody-bay-station/2026-12-13/
LOCATION:Lynton & Barnstaple Railway\, Woody Bay Station\, Martinhoe Cross\, Parracombe\, EX31 4RA\, United Kingdom
CATEGORIES:Christmas,Half Term,Steam Trains,Family Event
ATTACH;FMTTYPE=image/jpeg:https://visitlyntonandlynmouth.com/wp-content/uploads/2026/02/find_us_lynton_barnstaple_railway.jpg
ORGANIZER;CN="Lynton & Barnstaple Railway":MAILTO:enquiries@lynton-rail.co.uk
END:VEVENT
BEGIN:VEVENT
DTSTART;TZID=Europe/London:20261219T100000
DTEND;TZID=Europe/London:20261219T160000
DTSTAMP:20260422T171705
CREATED:20260211T201059Z
LAST-MODIFIED:20260302T160152Z
UID:10008470-1797674400-1797696000@visitlyntonandlynmouth.com
SUMMARY:Santa Specials at Woody Bay Station
DESCRIPTION:Details to follow
URL:https://visitlyntonandlynmouth.com/event/santa-specials-at-woody-bay-station/2026-12-19/
LOCATION:Lynton & Barnstaple Railway\, Woody Bay Station\, Martinhoe Cross\, Parracombe\, EX31 4RA\, United Kingdom
CATEGORIES:Christmas,Half Term,Steam Trains,Family Event
ATTACH;FMTTYPE=image/jpeg:https://visitlyntonandlynmouth.com/wp-content/uploads/2026/02/find_us_lynton_barnstaple_railway.jpg
ORGANIZER;CN="Lynton & Barnstaple Railway":MAILTO:enquiries@lynton-rail.co.uk
END:VEVENT
BEGIN:VEVENT
DTSTART;TZID=Europe/London:20261220T100000
DTEND;TZID=Europe/London:20261220T160000
DTSTAMP:20260422T171705
CREATED:20260211T201059Z
LAST-MODIFIED:20260302T160152Z
UID:10008471-1797760800-1797782400@visitlyntonandlynmouth.com
SUMMARY:Santa Specials at Woody Bay Station
DESCRIPTION:Details to follow
URL:https://visitlyntonandlynmouth.com/event/santa-specials-at-woody-bay-station/2026-12-20/
LOCATION:Lynton & Barnstaple Railway\, Woody Bay Station\, Martinhoe Cross\, Parracombe\, EX31 4RA\, United Kingdom
CATEGORIES:Christmas,Half Term,Steam Trains,Family Event
ATTACH;FMTTYPE=image/jpeg:https://visitlyntonandlynmouth.com/wp-content/uploads/2026/02/find_us_lynton_barnstaple_railway.jpg
ORGANIZER;CN="Lynton & Barnstaple Railway":MAILTO:enquiries@lynton-rail.co.uk
END:VEVENT
BEGIN:VEVENT
DTSTART;TZID=Europe/London:20261221T100000
DTEND;TZID=Europe/London:20261221T160000
DTSTAMP:20260422T171705
CREATED:20260211T201059Z
LAST-MODIFIED:20260302T160152Z
UID:10008472-1797847200-1797868800@visitlyntonandlynmouth.com
SUMMARY:Santa Specials at Woody Bay Station
DESCRIPTION:Details to follow
URL:https://visitlyntonandlynmouth.com/event/santa-specials-at-woody-bay-station/2026-12-21/
LOCATION:Lynton & Barnstaple Railway\, Woody Bay Station\, Martinhoe Cross\, Parracombe\, EX31 4RA\, United Kingdom
CATEGORIES:Christmas,Half Term,Steam Trains,Family Event
ATTACH;FMTTYPE=image/jpeg:https://visitlyntonandlynmouth.com/wp-content/uploads/2026/02/find_us_lynton_barnstaple_railway.jpg
ORGANIZER;CN="Lynton & Barnstaple Railway":MAILTO:enquiries@lynton-rail.co.uk
END:VEVENT
BEGIN:VEVENT
DTSTART;TZID=Europe/London:20261222T100000
DTEND;TZID=Europe/London:20261222T160000
DTSTAMP:20260422T171705
CREATED:20260211T201059Z
LAST-MODIFIED:20260302T160152Z
UID:10008473-1797933600-1797955200@visitlyntonandlynmouth.com
SUMMARY:Santa Specials at Woody Bay Station
DESCRIPTION:Details to follow
URL:https://visitlyntonandlynmouth.com/event/santa-specials-at-woody-bay-station/2026-12-22/
LOCATION:Lynton & Barnstaple Railway\, Woody Bay Station\, Martinhoe Cross\, Parracombe\, EX31 4RA\, United Kingdom
CATEGORIES:Christmas,Half Term,Steam Trains,Family Event
ATTACH;FMTTYPE=image/jpeg:https://visitlyntonandlynmouth.com/wp-content/uploads/2026/02/find_us_lynton_barnstaple_railway.jpg
ORGANIZER;CN="Lynton & Barnstaple Railway":MAILTO:enquiries@lynton-rail.co.uk
END:VEVENT
BEGIN:VEVENT
DTSTART;TZID=Europe/London:20261223T100000
DTEND;TZID=Europe/London:20261223T160000
DTSTAMP:20260422T171705
CREATED:20260211T201059Z
LAST-MODIFIED:20260302T160152Z
UID:10008474-1798020000-1798041600@visitlyntonandlynmouth.com
SUMMARY:Santa Specials at Woody Bay Station
DESCRIPTION:Details to follow
URL:https://visitlyntonandlynmouth.com/event/santa-specials-at-woody-bay-station/2026-12-23/
LOCATION:Lynton & Barnstaple Railway\, Woody Bay Station\, Martinhoe Cross\, Parracombe\, EX31 4RA\, United Kingdom
CATEGORIES:Christmas,Half Term,Steam Trains,Family Event
ATTACH;FMTTYPE=image/jpeg:https://visitlyntonandlynmouth.com/wp-content/uploads/2026/02/find_us_lynton_barnstaple_railway.jpg
ORGANIZER;CN="Lynton & Barnstaple Railway":MAILTO:enquiries@lynton-rail.co.uk
END:VEVENT
BEGIN:VEVENT
DTSTART;TZID=Europe/London:20261224T100000
DTEND;TZID=Europe/London:20261224T160000
DTSTAMP:20260422T171705
CREATED:20260211T201059Z
LAST-MODIFIED:20260302T160152Z
UID:10008475-1798106400-1798128000@visitlyntonandlynmouth.com
SUMMARY:Santa Specials at Woody Bay Station
DESCRIPTION:Details to follow
URL:https://visitlyntonandlynmouth.com/event/santa-specials-at-woody-bay-station/2026-12-24/
LOCATION:Lynton & Barnstaple Railway\, Woody Bay Station\, Martinhoe Cross\, Parracombe\, EX31 4RA\, United Kingdom
CATEGORIES:Christmas,Half Term,Steam Trains,Family Event
ATTACH;FMTTYPE=image/jpeg:https://visitlyntonandlynmouth.com/wp-content/uploads/2026/02/find_us_lynton_barnstaple_railway.jpg
ORGANIZER;CN="Lynton & Barnstaple Railway":MAILTO:enquiries@lynton-rail.co.uk
END:VEVENT
BEGIN:VEVENT
DTSTART;TZID=Europe/London:20261228T100000
DTEND;TZID=Europe/London:20261228T160000
DTSTAMP:20260422T171705
CREATED:20260211T201419Z
LAST-MODIFIED:20260404T191527Z
UID:10008476-1798452000-1798473600@visitlyntonandlynmouth.com
SUMMARY:New Year Trains at Woody Bay Station
DESCRIPTION:Details to follow
URL:https://visitlyntonandlynmouth.com/event/new-year-trains-at-woody-bay-station/2026-12-28/
LOCATION:Lynton & Barnstaple Railway\, Woody Bay Station\, Martinhoe Cross\, Parracombe\, EX31 4RA\, United Kingdom
CATEGORIES:Christmas,Steam Trains
ATTACH;FMTTYPE=image/jpeg:https://visitlyntonandlynmouth.com/wp-content/uploads/2026/02/find_us_lynton_barnstaple_railway.jpg
ORGANIZER;CN="Lynton & Barnstaple Railway":MAILTO:enquiries@lynton-rail.co.uk
END:VEVENT
BEGIN:VEVENT
DTSTART;TZID=Europe/London:20261229T100000
DTEND;TZID=Europe/London:20261229T160000
DTSTAMP:20260422T171705
CREATED:20260211T201419Z
LAST-MODIFIED:20260404T191527Z
UID:10008477-1798538400-1798560000@visitlyntonandlynmouth.com
SUMMARY:New Year Trains at Woody Bay Station
DESCRIPTION:Details to follow
URL:https://visitlyntonandlynmouth.com/event/new-year-trains-at-woody-bay-station/2026-12-29/
LOCATION:Lynton & Barnstaple Railway\, Woody Bay Station\, Martinhoe Cross\, Parracombe\, EX31 4RA\, United Kingdom
CATEGORIES:Christmas,Steam Trains
ATTACH;FMTTYPE=image/jpeg:https://visitlyntonandlynmouth.com/wp-content/uploads/2026/02/find_us_lynton_barnstaple_railway.jpg
ORGANIZER;CN="Lynton & Barnstaple Railway":MAILTO:enquiries@lynton-rail.co.uk
END:VEVENT
BEGIN:VEVENT
DTSTART;TZID=Europe/London:20261230T100000
DTEND;TZID=Europe/London:20261230T160000
DTSTAMP:20260422T171705
CREATED:20260211T201419Z
LAST-MODIFIED:20260404T191527Z
UID:10008478-1798624800-1798646400@visitlyntonandlynmouth.com
SUMMARY:New Year Trains at Woody Bay Station
DESCRIPTION:Details to follow
URL:https://visitlyntonandlynmouth.com/event/new-year-trains-at-woody-bay-station/2026-12-30/
LOCATION:Lynton & Barnstaple Railway\, Woody Bay Station\, Martinhoe Cross\, Parracombe\, EX31 4RA\, United Kingdom
CATEGORIES:Christmas,Steam Trains
ATTACH;FMTTYPE=image/jpeg:https://visitlyntonandlynmouth.com/wp-content/uploads/2026/02/find_us_lynton_barnstaple_railway.jpg
ORGANIZER;CN="Lynton & Barnstaple Railway":MAILTO:enquiries@lynton-rail.co.uk
END:VEVENT
BEGIN:VEVENT
DTSTART;TZID=Europe/London:20261231T100000
DTEND;TZID=Europe/London:20261231T160000
DTSTAMP:20260422T171705
CREATED:20260211T201419Z
LAST-MODIFIED:20260404T191527Z
UID:10008479-1798711200-1798732800@visitlyntonandlynmouth.com
SUMMARY:New Year Trains at Woody Bay Station
DESCRIPTION:Details to follow
URL:https://visitlyntonandlynmouth.com/event/new-year-trains-at-woody-bay-station/2026-12-31/
LOCATION:Lynton & Barnstaple Railway\, Woody Bay Station\, Martinhoe Cross\, Parracombe\, EX31 4RA\, United Kingdom
CATEGORIES:Christmas,Steam Trains
ATTACH;FMTTYPE=image/jpeg:https://visitlyntonandlynmouth.com/wp-content/uploads/2026/02/find_us_lynton_barnstaple_railway.jpg
ORGANIZER;CN="Lynton & Barnstaple Railway":MAILTO:enquiries@lynton-rail.co.uk
END:VEVENT
END:VCALENDAR