BEGIN:VCALENDAR
VERSION:2.0
PRODID:-//Visit Lynton &amp; Lynmouth - ECPv6.15.20//NONSGML v1.0//EN
CALSCALE:GREGORIAN
METHOD:PUBLISH
X-WR-CALNAME:Visit Lynton &amp; Lynmouth
X-ORIGINAL-URL:https://visitlyntonandlynmouth.com
X-WR-CALDESC:Events for Visit Lynton &amp; Lynmouth
REFRESH-INTERVAL;VALUE=DURATION:PT1H
X-Robots-Tag:noindex
X-PUBLISHED-TTL:PT1H
BEGIN:VTIMEZONE
TZID:Europe/London
BEGIN:DAYLIGHT
TZOFFSETFROM:+0000
TZOFFSETTO:+0100
TZNAME:BST
DTSTART:20250330T010000
END:DAYLIGHT
BEGIN:STANDARD
TZOFFSETFROM:+0100
TZOFFSETTO:+0000
TZNAME:GMT
DTSTART:20251026T010000
END:STANDARD
BEGIN:DAYLIGHT
TZOFFSETFROM:+0000
TZOFFSETTO:+0100
TZNAME:BST
DTSTART:20260329T010000
END:DAYLIGHT
BEGIN:STANDARD
TZOFFSETFROM:+0100
TZOFFSETTO:+0000
TZNAME:GMT
DTSTART:20261025T010000
END:STANDARD
BEGIN:DAYLIGHT
TZOFFSETFROM:+0000
TZOFFSETTO:+0100
TZNAME:BST
DTSTART:20270328T010000
END:DAYLIGHT
BEGIN:STANDARD
TZOFFSETFROM:+0100
TZOFFSETTO:+0000
TZNAME:GMT
DTSTART:20271031T010000
END:STANDARD
END:VTIMEZONE
BEGIN:VEVENT
DTSTART;TZID=Europe/London:20260423T100000
DTEND;TZID=Europe/London:20260423T160000
DTSTAMP:20260424T153226
CREATED:20260211T193928Z
LAST-MODIFIED:20260320T201556Z
UID:10008455-1776938400-1776960000@visitlyntonandlynmouth.com
SUMMARY:Postcode Week at Woody Bay Station
DESCRIPTION:Postcode Week (Running days between the 18th – 26th of April ) \nDuring our service running days between the 18th – 26th of April EX & TA postcode residents are invited to enjoy travel for just £2.00. Plus kids under 14 years travel for free! For just £2.00 sit back and enjoy a relaxing train ride\, passengers are entitled to one round trip only. We strongly recommend pre-booking a date and train service to avoid disappointment\, however any remaining tickets will be available on the day. \nYou will need to ensure to bring along proof of residency (a utility bill or similar) or photo ID that includes your address like a drivers license to claim your £2 ride. \nLocals Fare \n\nLocal (Adult / Young Adult / Student ): £2.00\nLocal Child: FREE\nLocal Disabled Passenger: £2.00\nLocal Carer: Free\n\nHolidaying in the area during this time? You can still enjoy visiting us and travel for the standard fare. Your ticket will be valid all day so you may be able to take part in multiple journeys. Please ensure to select the standard fare option\, you will need to select a service time when booking however like mentioned before your ticket is valid for all services that day. \nStandard Fare \n\nAdult: £11.50\nChild (under 14 years): FREE\nYoung Adult – (aged 14 – 21)/ Student ( Student ID required) :£8.50\nDisabled Passenger: £8.50\nCarer: Free\nFamily – (2 adults and up to 3 student/young adult): £32.00\n\nPostcode Week Running Days: 18th\, 19th\, 21st\, 22nd\, 23rd\, 25th and 26th of April  \nDeparture Train Times From Woody Bay Station to Killington Lane: \n10.45 – 11.30 – 12.15 – 13.30 – 14.15 – 15.00 – 16.00. \n2 mile return journey (approximately 20 minutes)
URL:https://visitlyntonandlynmouth.com/event/postcode-week-at-woody-bay/2026-04-23/
LOCATION:Lynton & Barnstaple Railway\, Woody Bay Station\, Martinhoe Cross\, Parracombe\, EX31 4RA\, United Kingdom
CATEGORIES:Wellbeing & Health,Family Event
ATTACH;FMTTYPE=image/jpeg:https://visitlyntonandlynmouth.com/wp-content/uploads/2026/02/70aafedb-93ae-4336-a7b5-e31dde048d4b.jpg
ORGANIZER;CN="Lynton & Barnstaple Railway":MAILTO:enquiries@lynton-rail.co.uk
END:VEVENT
BEGIN:VEVENT
DTSTART;TZID=Europe/London:20260422T100000
DTEND;TZID=Europe/London:20260422T160000
DTSTAMP:20260424T153226
CREATED:20260211T193928Z
LAST-MODIFIED:20260320T201556Z
UID:10008454-1776852000-1776873600@visitlyntonandlynmouth.com
SUMMARY:Postcode Week at Woody Bay Station
DESCRIPTION:Postcode Week (Running days between the 18th – 26th of April ) \nDuring our service running days between the 18th – 26th of April EX & TA postcode residents are invited to enjoy travel for just £2.00. Plus kids under 14 years travel for free! For just £2.00 sit back and enjoy a relaxing train ride\, passengers are entitled to one round trip only. We strongly recommend pre-booking a date and train service to avoid disappointment\, however any remaining tickets will be available on the day. \nYou will need to ensure to bring along proof of residency (a utility bill or similar) or photo ID that includes your address like a drivers license to claim your £2 ride. \nLocals Fare \n\nLocal (Adult / Young Adult / Student ): £2.00\nLocal Child: FREE\nLocal Disabled Passenger: £2.00\nLocal Carer: Free\n\nHolidaying in the area during this time? You can still enjoy visiting us and travel for the standard fare. Your ticket will be valid all day so you may be able to take part in multiple journeys. Please ensure to select the standard fare option\, you will need to select a service time when booking however like mentioned before your ticket is valid for all services that day. \nStandard Fare \n\nAdult: £11.50\nChild (under 14 years): FREE\nYoung Adult – (aged 14 – 21)/ Student ( Student ID required) :£8.50\nDisabled Passenger: £8.50\nCarer: Free\nFamily – (2 adults and up to 3 student/young adult): £32.00\n\nPostcode Week Running Days: 18th\, 19th\, 21st\, 22nd\, 23rd\, 25th and 26th of April  \nDeparture Train Times From Woody Bay Station to Killington Lane: \n10.45 – 11.30 – 12.15 – 13.30 – 14.15 – 15.00 – 16.00. \n2 mile return journey (approximately 20 minutes)
URL:https://visitlyntonandlynmouth.com/event/postcode-week-at-woody-bay/2026-04-22/
LOCATION:Lynton & Barnstaple Railway\, Woody Bay Station\, Martinhoe Cross\, Parracombe\, EX31 4RA\, United Kingdom
CATEGORIES:Wellbeing & Health,Family Event
ATTACH;FMTTYPE=image/jpeg:https://visitlyntonandlynmouth.com/wp-content/uploads/2026/02/70aafedb-93ae-4336-a7b5-e31dde048d4b.jpg
ORGANIZER;CN="Lynton & Barnstaple Railway":MAILTO:enquiries@lynton-rail.co.uk
END:VEVENT
BEGIN:VEVENT
DTSTART;TZID=Europe/London:20260421T100000
DTEND;TZID=Europe/London:20260421T160000
DTSTAMP:20260424T153226
CREATED:20260211T193928Z
LAST-MODIFIED:20260320T201556Z
UID:10008453-1776765600-1776787200@visitlyntonandlynmouth.com
SUMMARY:Postcode Week at Woody Bay Station
DESCRIPTION:Postcode Week (Running days between the 18th – 26th of April ) \nDuring our service running days between the 18th – 26th of April EX & TA postcode residents are invited to enjoy travel for just £2.00. Plus kids under 14 years travel for free! For just £2.00 sit back and enjoy a relaxing train ride\, passengers are entitled to one round trip only. We strongly recommend pre-booking a date and train service to avoid disappointment\, however any remaining tickets will be available on the day. \nYou will need to ensure to bring along proof of residency (a utility bill or similar) or photo ID that includes your address like a drivers license to claim your £2 ride. \nLocals Fare \n\nLocal (Adult / Young Adult / Student ): £2.00\nLocal Child: FREE\nLocal Disabled Passenger: £2.00\nLocal Carer: Free\n\nHolidaying in the area during this time? You can still enjoy visiting us and travel for the standard fare. Your ticket will be valid all day so you may be able to take part in multiple journeys. Please ensure to select the standard fare option\, you will need to select a service time when booking however like mentioned before your ticket is valid for all services that day. \nStandard Fare \n\nAdult: £11.50\nChild (under 14 years): FREE\nYoung Adult – (aged 14 – 21)/ Student ( Student ID required) :£8.50\nDisabled Passenger: £8.50\nCarer: Free\nFamily – (2 adults and up to 3 student/young adult): £32.00\n\nPostcode Week Running Days: 18th\, 19th\, 21st\, 22nd\, 23rd\, 25th and 26th of April  \nDeparture Train Times From Woody Bay Station to Killington Lane: \n10.45 – 11.30 – 12.15 – 13.30 – 14.15 – 15.00 – 16.00. \n2 mile return journey (approximately 20 minutes)
URL:https://visitlyntonandlynmouth.com/event/postcode-week-at-woody-bay/2026-04-21/
LOCATION:Lynton & Barnstaple Railway\, Woody Bay Station\, Martinhoe Cross\, Parracombe\, EX31 4RA\, United Kingdom
CATEGORIES:Wellbeing & Health,Family Event
ATTACH;FMTTYPE=image/jpeg:https://visitlyntonandlynmouth.com/wp-content/uploads/2026/02/70aafedb-93ae-4336-a7b5-e31dde048d4b.jpg
ORGANIZER;CN="Lynton & Barnstaple Railway":MAILTO:enquiries@lynton-rail.co.uk
END:VEVENT
BEGIN:VEVENT
DTSTART;TZID=Europe/London:20260419T100000
DTEND;TZID=Europe/London:20260419T160000
DTSTAMP:20260424T153226
CREATED:20260211T193928Z
LAST-MODIFIED:20260320T201556Z
UID:10008452-1776592800-1776614400@visitlyntonandlynmouth.com
SUMMARY:Postcode Week at Woody Bay Station
DESCRIPTION:Postcode Week (Running days between the 18th – 26th of April ) \nDuring our service running days between the 18th – 26th of April EX & TA postcode residents are invited to enjoy travel for just £2.00. Plus kids under 14 years travel for free! For just £2.00 sit back and enjoy a relaxing train ride\, passengers are entitled to one round trip only. We strongly recommend pre-booking a date and train service to avoid disappointment\, however any remaining tickets will be available on the day. \nYou will need to ensure to bring along proof of residency (a utility bill or similar) or photo ID that includes your address like a drivers license to claim your £2 ride. \nLocals Fare \n\nLocal (Adult / Young Adult / Student ): £2.00\nLocal Child: FREE\nLocal Disabled Passenger: £2.00\nLocal Carer: Free\n\nHolidaying in the area during this time? You can still enjoy visiting us and travel for the standard fare. Your ticket will be valid all day so you may be able to take part in multiple journeys. Please ensure to select the standard fare option\, you will need to select a service time when booking however like mentioned before your ticket is valid for all services that day. \nStandard Fare \n\nAdult: £11.50\nChild (under 14 years): FREE\nYoung Adult – (aged 14 – 21)/ Student ( Student ID required) :£8.50\nDisabled Passenger: £8.50\nCarer: Free\nFamily – (2 adults and up to 3 student/young adult): £32.00\n\nPostcode Week Running Days: 18th\, 19th\, 21st\, 22nd\, 23rd\, 25th and 26th of April  \nDeparture Train Times From Woody Bay Station to Killington Lane: \n10.45 – 11.30 – 12.15 – 13.30 – 14.15 – 15.00 – 16.00. \n2 mile return journey (approximately 20 minutes)
URL:https://visitlyntonandlynmouth.com/event/postcode-week-at-woody-bay/2026-04-19/
LOCATION:Lynton & Barnstaple Railway\, Woody Bay Station\, Martinhoe Cross\, Parracombe\, EX31 4RA\, United Kingdom
CATEGORIES:Wellbeing & Health,Family Event
ATTACH;FMTTYPE=image/jpeg:https://visitlyntonandlynmouth.com/wp-content/uploads/2026/02/70aafedb-93ae-4336-a7b5-e31dde048d4b.jpg
ORGANIZER;CN="Lynton & Barnstaple Railway":MAILTO:enquiries@lynton-rail.co.uk
END:VEVENT
BEGIN:VEVENT
DTSTART;TZID=Europe/London:20260418T100000
DTEND;TZID=Europe/London:20260418T160000
DTSTAMP:20260424T153226
CREATED:20260211T193928Z
LAST-MODIFIED:20260320T201556Z
UID:10008451-1776506400-1776528000@visitlyntonandlynmouth.com
SUMMARY:Postcode Week at Woody Bay Station
DESCRIPTION:Postcode Week (Running days between the 18th – 26th of April ) \nDuring our service running days between the 18th – 26th of April EX & TA postcode residents are invited to enjoy travel for just £2.00. Plus kids under 14 years travel for free! For just £2.00 sit back and enjoy a relaxing train ride\, passengers are entitled to one round trip only. We strongly recommend pre-booking a date and train service to avoid disappointment\, however any remaining tickets will be available on the day. \nYou will need to ensure to bring along proof of residency (a utility bill or similar) or photo ID that includes your address like a drivers license to claim your £2 ride. \nLocals Fare \n\nLocal (Adult / Young Adult / Student ): £2.00\nLocal Child: FREE\nLocal Disabled Passenger: £2.00\nLocal Carer: Free\n\nHolidaying in the area during this time? You can still enjoy visiting us and travel for the standard fare. Your ticket will be valid all day so you may be able to take part in multiple journeys. Please ensure to select the standard fare option\, you will need to select a service time when booking however like mentioned before your ticket is valid for all services that day. \nStandard Fare \n\nAdult: £11.50\nChild (under 14 years): FREE\nYoung Adult – (aged 14 – 21)/ Student ( Student ID required) :£8.50\nDisabled Passenger: £8.50\nCarer: Free\nFamily – (2 adults and up to 3 student/young adult): £32.00\n\nPostcode Week Running Days: 18th\, 19th\, 21st\, 22nd\, 23rd\, 25th and 26th of April  \nDeparture Train Times From Woody Bay Station to Killington Lane: \n10.45 – 11.30 – 12.15 – 13.30 – 14.15 – 15.00 – 16.00. \n2 mile return journey (approximately 20 minutes)
URL:https://visitlyntonandlynmouth.com/event/postcode-week-at-woody-bay/2026-04-18/
LOCATION:Lynton & Barnstaple Railway\, Woody Bay Station\, Martinhoe Cross\, Parracombe\, EX31 4RA\, United Kingdom
CATEGORIES:Wellbeing & Health,Family Event
ATTACH;FMTTYPE=image/jpeg:https://visitlyntonandlynmouth.com/wp-content/uploads/2026/02/70aafedb-93ae-4336-a7b5-e31dde048d4b.jpg
ORGANIZER;CN="Lynton & Barnstaple Railway":MAILTO:enquiries@lynton-rail.co.uk
END:VEVENT
BEGIN:VEVENT
DTSTART;TZID=Europe/London:20260411T100000
DTEND;TZID=Europe/London:20260411T160000
DTSTAMP:20260424T153226
CREATED:20260211T193544Z
LAST-MODIFIED:20260320T201253Z
UID:10008594-1775901600-1775923200@visitlyntonandlynmouth.com
SUMMARY:Easter Fun: Children's Free Easter Trail at Woody Bay Station
DESCRIPTION:Hop Along the Tracks This Easter!\nJoin us at the Lynton & Barnstaple Railway this Easter holiday for a fun family adventure with our FREE Children’s Spring Trail! \nRunning from 3rd – 12th April (closed on the 10th) \nLittle explorers can take part in a special Easter trail around the railway. Pick up your trail sheet from the Station Shop\, follow the clues around the site\, and once you’ve solved them all\, head back to the shop to claim your prize! \nIt’s the perfect way to keep the kids entertained during the Easter break while enjoying a day out at the railway. \nDon’t forget children under 14 travel for FREE on the train when accompanied by a paying adult!
URL:https://visitlyntonandlynmouth.com/event/easter-fun-around-woody-bay/2026-04-11/
LOCATION:Lynton & Barnstaple Railway\, Woody Bay Station\, Martinhoe Cross\, Parracombe\, EX31 4RA\, United Kingdom
CATEGORIES:Half Term,Kids,Family Event
ATTACH;FMTTYPE=image/jpeg:https://visitlyntonandlynmouth.com/wp-content/uploads/2026/02/add23bcf-00a6-4873-9838-7c4f27a465f9.jpg
ORGANIZER;CN="Lynton & Barnstaple Railway":MAILTO:enquiries@lynton-rail.co.uk
END:VEVENT
BEGIN:VEVENT
DTSTART;TZID=Europe/London:20260409T100000
DTEND;TZID=Europe/London:20260409T160000
DTSTAMP:20260424T153226
CREATED:20260211T193544Z
LAST-MODIFIED:20260320T201253Z
UID:10008593-1775728800-1775750400@visitlyntonandlynmouth.com
SUMMARY:Easter Fun: Children's Free Easter Trail at Woody Bay Station
DESCRIPTION:Hop Along the Tracks This Easter!\nJoin us at the Lynton & Barnstaple Railway this Easter holiday for a fun family adventure with our FREE Children’s Spring Trail! \nRunning from 3rd – 12th April (closed on the 10th) \nLittle explorers can take part in a special Easter trail around the railway. Pick up your trail sheet from the Station Shop\, follow the clues around the site\, and once you’ve solved them all\, head back to the shop to claim your prize! \nIt’s the perfect way to keep the kids entertained during the Easter break while enjoying a day out at the railway. \nDon’t forget children under 14 travel for FREE on the train when accompanied by a paying adult!
URL:https://visitlyntonandlynmouth.com/event/easter-fun-around-woody-bay/2026-04-09/
LOCATION:Lynton & Barnstaple Railway\, Woody Bay Station\, Martinhoe Cross\, Parracombe\, EX31 4RA\, United Kingdom
CATEGORIES:Half Term,Kids,Family Event
ATTACH;FMTTYPE=image/jpeg:https://visitlyntonandlynmouth.com/wp-content/uploads/2026/02/add23bcf-00a6-4873-9838-7c4f27a465f9.jpg
ORGANIZER;CN="Lynton & Barnstaple Railway":MAILTO:enquiries@lynton-rail.co.uk
END:VEVENT
BEGIN:VEVENT
DTSTART;TZID=Europe/London:20260408T100000
DTEND;TZID=Europe/London:20260408T160000
DTSTAMP:20260424T153226
CREATED:20260211T193544Z
LAST-MODIFIED:20260320T201253Z
UID:10008592-1775642400-1775664000@visitlyntonandlynmouth.com
SUMMARY:Easter Fun: Children's Free Easter Trail at Woody Bay Station
DESCRIPTION:Hop Along the Tracks This Easter!\nJoin us at the Lynton & Barnstaple Railway this Easter holiday for a fun family adventure with our FREE Children’s Spring Trail! \nRunning from 3rd – 12th April (closed on the 10th) \nLittle explorers can take part in a special Easter trail around the railway. Pick up your trail sheet from the Station Shop\, follow the clues around the site\, and once you’ve solved them all\, head back to the shop to claim your prize! \nIt’s the perfect way to keep the kids entertained during the Easter break while enjoying a day out at the railway. \nDon’t forget children under 14 travel for FREE on the train when accompanied by a paying adult!
URL:https://visitlyntonandlynmouth.com/event/easter-fun-around-woody-bay/2026-04-08/
LOCATION:Lynton & Barnstaple Railway\, Woody Bay Station\, Martinhoe Cross\, Parracombe\, EX31 4RA\, United Kingdom
CATEGORIES:Half Term,Kids,Family Event
ATTACH;FMTTYPE=image/jpeg:https://visitlyntonandlynmouth.com/wp-content/uploads/2026/02/add23bcf-00a6-4873-9838-7c4f27a465f9.jpg
ORGANIZER;CN="Lynton & Barnstaple Railway":MAILTO:enquiries@lynton-rail.co.uk
END:VEVENT
BEGIN:VEVENT
DTSTART;TZID=Europe/London:20260407T100000
DTEND;TZID=Europe/London:20260407T160000
DTSTAMP:20260424T153226
CREATED:20260211T193544Z
LAST-MODIFIED:20260320T201253Z
UID:10008591-1775556000-1775577600@visitlyntonandlynmouth.com
SUMMARY:Easter Fun: Children's Free Easter Trail at Woody Bay Station
DESCRIPTION:Hop Along the Tracks This Easter!\nJoin us at the Lynton & Barnstaple Railway this Easter holiday for a fun family adventure with our FREE Children’s Spring Trail! \nRunning from 3rd – 12th April (closed on the 10th) \nLittle explorers can take part in a special Easter trail around the railway. Pick up your trail sheet from the Station Shop\, follow the clues around the site\, and once you’ve solved them all\, head back to the shop to claim your prize! \nIt’s the perfect way to keep the kids entertained during the Easter break while enjoying a day out at the railway. \nDon’t forget children under 14 travel for FREE on the train when accompanied by a paying adult!
URL:https://visitlyntonandlynmouth.com/event/easter-fun-around-woody-bay/2026-04-07/
LOCATION:Lynton & Barnstaple Railway\, Woody Bay Station\, Martinhoe Cross\, Parracombe\, EX31 4RA\, United Kingdom
CATEGORIES:Half Term,Kids,Family Event
ATTACH;FMTTYPE=image/jpeg:https://visitlyntonandlynmouth.com/wp-content/uploads/2026/02/add23bcf-00a6-4873-9838-7c4f27a465f9.jpg
ORGANIZER;CN="Lynton & Barnstaple Railway":MAILTO:enquiries@lynton-rail.co.uk
END:VEVENT
BEGIN:VEVENT
DTSTART;TZID=Europe/London:20260406T100000
DTEND;TZID=Europe/London:20260406T160000
DTSTAMP:20260424T153226
CREATED:20260211T193544Z
LAST-MODIFIED:20260320T201253Z
UID:10008450-1775469600-1775491200@visitlyntonandlynmouth.com
SUMMARY:Easter Fun: Children's Free Easter Trail at Woody Bay Station
DESCRIPTION:Hop Along the Tracks This Easter!\nJoin us at the Lynton & Barnstaple Railway this Easter holiday for a fun family adventure with our FREE Children’s Spring Trail! \nRunning from 3rd – 12th April (closed on the 10th) \nLittle explorers can take part in a special Easter trail around the railway. Pick up your trail sheet from the Station Shop\, follow the clues around the site\, and once you’ve solved them all\, head back to the shop to claim your prize! \nIt’s the perfect way to keep the kids entertained during the Easter break while enjoying a day out at the railway. \nDon’t forget children under 14 travel for FREE on the train when accompanied by a paying adult!
URL:https://visitlyntonandlynmouth.com/event/easter-fun-around-woody-bay/2026-04-06/
LOCATION:Lynton & Barnstaple Railway\, Woody Bay Station\, Martinhoe Cross\, Parracombe\, EX31 4RA\, United Kingdom
CATEGORIES:Half Term,Kids,Family Event
ATTACH;FMTTYPE=image/jpeg:https://visitlyntonandlynmouth.com/wp-content/uploads/2026/02/add23bcf-00a6-4873-9838-7c4f27a465f9.jpg
ORGANIZER;CN="Lynton & Barnstaple Railway":MAILTO:enquiries@lynton-rail.co.uk
END:VEVENT
BEGIN:VEVENT
DTSTART;TZID=Europe/London:20260405T100000
DTEND;TZID=Europe/London:20260405T160000
DTSTAMP:20260424T153226
CREATED:20260211T193544Z
LAST-MODIFIED:20260320T201253Z
UID:10008449-1775383200-1775404800@visitlyntonandlynmouth.com
SUMMARY:Easter Fun: Children's Free Easter Trail at Woody Bay Station
DESCRIPTION:Hop Along the Tracks This Easter!\nJoin us at the Lynton & Barnstaple Railway this Easter holiday for a fun family adventure with our FREE Children’s Spring Trail! \nRunning from 3rd – 12th April (closed on the 10th) \nLittle explorers can take part in a special Easter trail around the railway. Pick up your trail sheet from the Station Shop\, follow the clues around the site\, and once you’ve solved them all\, head back to the shop to claim your prize! \nIt’s the perfect way to keep the kids entertained during the Easter break while enjoying a day out at the railway. \nDon’t forget children under 14 travel for FREE on the train when accompanied by a paying adult!
URL:https://visitlyntonandlynmouth.com/event/easter-fun-around-woody-bay/2026-04-05/
LOCATION:Lynton & Barnstaple Railway\, Woody Bay Station\, Martinhoe Cross\, Parracombe\, EX31 4RA\, United Kingdom
CATEGORIES:Half Term,Kids,Family Event
ATTACH;FMTTYPE=image/jpeg:https://visitlyntonandlynmouth.com/wp-content/uploads/2026/02/add23bcf-00a6-4873-9838-7c4f27a465f9.jpg
ORGANIZER;CN="Lynton & Barnstaple Railway":MAILTO:enquiries@lynton-rail.co.uk
END:VEVENT
BEGIN:VEVENT
DTSTART;TZID=Europe/London:20260404T100000
DTEND;TZID=Europe/London:20260404T160000
DTSTAMP:20260424T153226
CREATED:20260211T193544Z
LAST-MODIFIED:20260320T201253Z
UID:10008448-1775296800-1775318400@visitlyntonandlynmouth.com
SUMMARY:Easter Fun: Children's Free Easter Trail at Woody Bay Station
DESCRIPTION:Hop Along the Tracks This Easter!\nJoin us at the Lynton & Barnstaple Railway this Easter holiday for a fun family adventure with our FREE Children’s Spring Trail! \nRunning from 3rd – 12th April (closed on the 10th) \nLittle explorers can take part in a special Easter trail around the railway. Pick up your trail sheet from the Station Shop\, follow the clues around the site\, and once you’ve solved them all\, head back to the shop to claim your prize! \nIt’s the perfect way to keep the kids entertained during the Easter break while enjoying a day out at the railway. \nDon’t forget children under 14 travel for FREE on the train when accompanied by a paying adult!
URL:https://visitlyntonandlynmouth.com/event/easter-fun-around-woody-bay/2026-04-04/
LOCATION:Lynton & Barnstaple Railway\, Woody Bay Station\, Martinhoe Cross\, Parracombe\, EX31 4RA\, United Kingdom
CATEGORIES:Half Term,Kids,Family Event
ATTACH;FMTTYPE=image/jpeg:https://visitlyntonandlynmouth.com/wp-content/uploads/2026/02/add23bcf-00a6-4873-9838-7c4f27a465f9.jpg
ORGANIZER;CN="Lynton & Barnstaple Railway":MAILTO:enquiries@lynton-rail.co.uk
END:VEVENT
BEGIN:VEVENT
DTSTART;TZID=Europe/London:20260403T100000
DTEND;TZID=Europe/London:20260403T160000
DTSTAMP:20260424T153226
CREATED:20260211T193544Z
LAST-MODIFIED:20260320T201253Z
UID:10008447-1775210400-1775232000@visitlyntonandlynmouth.com
SUMMARY:Easter Fun: Children's Free Easter Trail at Woody Bay Station
DESCRIPTION:Hop Along the Tracks This Easter!\nJoin us at the Lynton & Barnstaple Railway this Easter holiday for a fun family adventure with our FREE Children’s Spring Trail! \nRunning from 3rd – 12th April (closed on the 10th) \nLittle explorers can take part in a special Easter trail around the railway. Pick up your trail sheet from the Station Shop\, follow the clues around the site\, and once you’ve solved them all\, head back to the shop to claim your prize! \nIt’s the perfect way to keep the kids entertained during the Easter break while enjoying a day out at the railway. \nDon’t forget children under 14 travel for FREE on the train when accompanied by a paying adult!
URL:https://visitlyntonandlynmouth.com/event/easter-fun-around-woody-bay/2026-04-03/
LOCATION:Lynton & Barnstaple Railway\, Woody Bay Station\, Martinhoe Cross\, Parracombe\, EX31 4RA\, United Kingdom
CATEGORIES:Half Term,Kids,Family Event
ATTACH;FMTTYPE=image/jpeg:https://visitlyntonandlynmouth.com/wp-content/uploads/2026/02/add23bcf-00a6-4873-9838-7c4f27a465f9.jpg
ORGANIZER;CN="Lynton & Barnstaple Railway":MAILTO:enquiries@lynton-rail.co.uk
END:VEVENT
END:VCALENDAR