BEGIN:VCALENDAR
VERSION:2.0
PRODID:-//Visit Lynton &amp; Lynmouth - ECPv6.15.20//NONSGML v1.0//EN
CALSCALE:GREGORIAN
METHOD:PUBLISH
X-ORIGINAL-URL:https://visitlyntonandlynmouth.com
X-WR-CALDESC:Events for Visit Lynton &amp; Lynmouth
REFRESH-INTERVAL;VALUE=DURATION:PT1H
X-Robots-Tag:noindex
X-PUBLISHED-TTL:PT1H
BEGIN:VTIMEZONE
TZID:Europe/London
BEGIN:DAYLIGHT
TZOFFSETFROM:+0000
TZOFFSETTO:+0100
TZNAME:BST
DTSTART:20250330T010000
END:DAYLIGHT
BEGIN:STANDARD
TZOFFSETFROM:+0100
TZOFFSETTO:+0000
TZNAME:GMT
DTSTART:20251026T010000
END:STANDARD
BEGIN:DAYLIGHT
TZOFFSETFROM:+0000
TZOFFSETTO:+0100
TZNAME:BST
DTSTART:20260329T010000
END:DAYLIGHT
BEGIN:STANDARD
TZOFFSETFROM:+0100
TZOFFSETTO:+0000
TZNAME:GMT
DTSTART:20261025T010000
END:STANDARD
BEGIN:DAYLIGHT
TZOFFSETFROM:+0000
TZOFFSETTO:+0100
TZNAME:BST
DTSTART:20270328T010000
END:DAYLIGHT
BEGIN:STANDARD
TZOFFSETFROM:+0100
TZOFFSETTO:+0000
TZNAME:GMT
DTSTART:20271031T010000
END:STANDARD
END:VTIMEZONE
BEGIN:VEVENT
DTSTART;VALUE=DATE:20260418
DTEND;VALUE=DATE:20260427
DTSTAMP:20260424T170750
CREATED:20260415T145714Z
LAST-MODIFIED:20260415T145714Z
UID:10008680-1776470400-1777247999@visitlyntonandlynmouth.com
SUMMARY:Postcode Week at Lynton & Barnstaple Railway\, Woody Bay
DESCRIPTION: Postcode Week – Special Local Offer! \n\nJoin us for Postcode Week\, running on selected days between 18th – 26th April\, and enjoy a fantastic local travel offer!\n EX & TA postcode residents can ride for just £2.00 return Kids under 14 travel FREE!\nSit back\, relax\, and take in the scenery on a charming 2-mile return journey (approx. 20 minutes). Each £2 ticket includes one round trip\, so don’t miss out!\n\n Running Days: 18th\, 19th\, 21st\, 22nd\, 23rd\, 25th & 26th April\nDeparture Times (Woody Bay → Killington Lane):10:45 | 11:30 | 12:15 | 13:30 | 14:15 | 15:00 | 16:00\n\n Booking Info:Tickets can be pre-booked online via our website or purchased on the day from our Station Shop.\nLocal Fare (EX & TA Postcodes)• Adult / Young Adult / Student: £2.00• Child (under 14): FREE• Disabled Passenger: £2.00• Carer: FREE\n\n Important: Please bring proof of residency (utility bill or photo ID with address) to claim your £2 fare.\n\nVisiting the Area?\nYou’re still very welcome! Standard fares apply\, and your ticket is valid all day\, so you can enjoy multiple journeys.\nStandard Fare:• Adult: £11.50• Child (under 14): FREE• Young Adult (14–21) / Student: £8.50• Disabled Passenger: £8.50• Carer: FREE• Family (2 adults + up to 3 young adults/students): £32.00\n\n Tearoom & Station ShopOpen daily from 10:00 – 16:00\, serving hot & cold drinks\, soup\, pasties\, sausage rolls\, cakes\, and cream teas. Browse our station shop for gifts and souvenirs!\n\n First Class Upgrade (On the Day Only)Upgrade your journey for just £3.50 per person and enjoy extra comfort in our First Class compartments (limited availability\, first come first served).\n\nPostcode Week: https://www.lynton-rail.co.uk/events/view/postcode-week-2\n Don’t miss this brilliant local offer! Plan your visit today and enjoy a nostalgic railway experience!
URL:https://visitlyntonandlynmouth.com/event/postcode-week-at-lynton-barnstaple-railway-woody-bay/
LOCATION:Lynton & Barnstaple Railway\, Woody Bay Station\, Martinhoe Cross\, Parracombe\, EX31 4RA\, United Kingdom
CATEGORIES:Steam Trains,Family Event
ATTACH;FMTTYPE=image/jpeg:https://visitlyntonandlynmouth.com/wp-content/uploads/2026/04/668834374_1615168720588577_6101928272244626779_n.jpg
ORGANIZER;CN="Lynton & Barnstaple Railway":MAILTO:enquiries@lynton-rail.co.uk
END:VEVENT
BEGIN:VEVENT
DTSTART;TZID=Europe/London:20260424T190000
DTEND;TZID=Europe/London:20260424T210000
DTSTAMP:20260424T170750
CREATED:20260415T150337Z
LAST-MODIFIED:20260415T150337Z
UID:10008682-1777057200-1777064400@visitlyntonandlynmouth.com
SUMMARY:Amber Louise LIVE at the Blue Ball Inn\, Countisbury
DESCRIPTION:Spend your Friday evening on Exmoor with live acoustic music from Amber Louise at Blue Ball Inn in Countisbury on Friday 24th April from 7–9pm.\nAmber Louise brings a relaxed mix of acoustic favourites and soulful vocals\, creating the perfect backdrop for a laid-back night in the pub.\nJoin us for a drink\, stay for dinner\, and enjoy a cosy evening of live music near Lynton & Lynmouth\, right in the heart of the Exmoor countryside.\n Blue Ball Inn\, Countisbury\, Exmoor Live music from 7–9pm Food and drinks available all evening\nNo tickets needed. Just come along and enjoy the music. Tables available if you’d like to dine while the music’s on 
URL:https://visitlyntonandlynmouth.com/event/amber-louise-live-at-the-blue-ball-inn-countisbury/
LOCATION:Blue Ball Inn\, Countisbury Hill\, Lynmouth\, EX35 6NE\, United Kingdom
CATEGORIES:Live Music,Social
ATTACH;FMTTYPE=image/jpeg:https://visitlyntonandlynmouth.com/wp-content/uploads/2026/04/649886833_1508823474579206_878849846913036634_n.jpg
END:VEVENT
BEGIN:VEVENT
DTSTART;TZID=Europe/London:20260424T200000
DTEND;TZID=Europe/London:20260424T220000
DTSTAMP:20260424T170750
CREATED:20260312T190431Z
LAST-MODIFIED:20260312T190431Z
UID:10008568-1777060800-1777068000@visitlyntonandlynmouth.com
SUMMARY:Rose of Nevada (15) Lynton Cinema
DESCRIPTION:A fishing boat reappears in a Cornish coastal village 30 years after vanishing\, but unnerving and inexplicable events unfold when three men take it out on the sea once again in this supernatural drama.
URL:https://visitlyntonandlynmouth.com/event/rose-of-nevada-15-lynton-cinema/2026-04-24/
LOCATION:Lynton Cinema\, Lee Road\, Lynton\, EX35 6HN\, United Kingdom
CATEGORIES:Cinema
ATTACH;FMTTYPE=image/jpeg:https://visitlyntonandlynmouth.com/wp-content/uploads/2026/03/rose-of-nevada-01.jpeg
END:VEVENT
BEGIN:VEVENT
DTSTART;TZID=Europe/London:20260424T200000
DTEND;TZID=Europe/London:20260424T223000
DTSTAMP:20260424T170750
CREATED:20260121T151257Z
LAST-MODIFIED:20260306T172838Z
UID:10007959-1777060800-1777069800@visitlyntonandlynmouth.com
SUMMARY:Charity Bingo at The Old Station Inn
DESCRIPTION:Bingo and Raffle Night in aid of Braunton FC Women’s Walking Football Team & Service Dogs UK\nEyes Down 8pmBook of 6 games plus 2 flyers £7Raffle £1 strip \nHappiness is yelling BINGO!
URL:https://visitlyntonandlynmouth.com/event/charity-bingo-at-the-old-station-inn-5/
LOCATION:The Old Station Inn\, Blackmoor Gate\, Kentisbury\, EX31 4NW\, United Kingdom
CATEGORIES:Competition,Social
ATTACH;FMTTYPE=image/jpeg:https://visitlyntonandlynmouth.com/wp-content/uploads/2026/01/616802962_1437715325029561_7402692743214121742_n.jpg
END:VEVENT
END:VCALENDAR