BEGIN:VCALENDAR
VERSION:2.0
PRODID:-//Visit Lynton &amp; Lynmouth - ECPv6.15.20//NONSGML v1.0//EN
CALSCALE:GREGORIAN
METHOD:PUBLISH
X-ORIGINAL-URL:https://visitlyntonandlynmouth.com
X-WR-CALDESC:Events for Visit Lynton &amp; Lynmouth
REFRESH-INTERVAL;VALUE=DURATION:PT1H
X-Robots-Tag:noindex
X-PUBLISHED-TTL:PT1H
BEGIN:VTIMEZONE
TZID:Europe/London
BEGIN:DAYLIGHT
TZOFFSETFROM:+0000
TZOFFSETTO:+0100
TZNAME:BST
DTSTART:20250330T010000
END:DAYLIGHT
BEGIN:STANDARD
TZOFFSETFROM:+0100
TZOFFSETTO:+0000
TZNAME:GMT
DTSTART:20251026T010000
END:STANDARD
BEGIN:DAYLIGHT
TZOFFSETFROM:+0000
TZOFFSETTO:+0100
TZNAME:BST
DTSTART:20260329T010000
END:DAYLIGHT
BEGIN:STANDARD
TZOFFSETFROM:+0100
TZOFFSETTO:+0000
TZNAME:GMT
DTSTART:20261025T010000
END:STANDARD
BEGIN:DAYLIGHT
TZOFFSETFROM:+0000
TZOFFSETTO:+0100
TZNAME:BST
DTSTART:20270328T010000
END:DAYLIGHT
BEGIN:STANDARD
TZOFFSETFROM:+0100
TZOFFSETTO:+0000
TZNAME:GMT
DTSTART:20271031T010000
END:STANDARD
END:VTIMEZONE
BEGIN:VEVENT
DTSTART;TZID=Europe/London:20260418T210000
DTEND;TZID=Europe/London:20260418T230000
DTSTAMP:20260421T093134
CREATED:20260415T144119Z
LAST-MODIFIED:20260415T144119Z
UID:10008672-1776546000-1776553200@visitlyntonandlynmouth.com
SUMMARY:Big Al & The Wild Strawberries LIVE at The Ancient Mariner\, Lynmouth
DESCRIPTION:Live Music				\n				\n					\n				\n				\n				\n						\n					\n			\n						\n				\n					Discover exciting and interesting events happening around the Lyn Valley.				\n				\n					\n		\n					\n		\n				\n						\n					\n			\n						\n				\n									 Join us for an array of exciting events and live music. Explore upcoming gatherings\, performances\, and cultural festivities perfect for everyone. Stay tuned for what’s on in our picturesque towns!” 								\n				\n					\n		\n					\n		\n		\n				\n				\n					\n	\n		\n	\n		25 events found.	\n	\n		\n	\n\n		\n	\n\n		\n	\n\n	\n\n\n		\n		\n\n		\n		\n\n	\n	Events\n\n	\n	\n	\n\n	\n		Events Search and Views Navigation	\n\n			\n	\n	\n\n	\n		Search	\n\n\n		\n			\n	\n		\n\n		\n			\n	\n		Enter Keyword. Search for Events by Keyword.	\n	\n	\n	\n\n\n		\n\n		\n	Find Events\n	\n\n		\n	\n	\n	\n		Event Views Navigation	\n	\n		\n			\n				\n	\n	\n		\n		\n	\n	\n			\n		\n	\n	\n		\n			\n		\n		\n			\n		\n	\n\n			\n			\n				List			\n			\n	\n\n		\n		\n	\n					\n	\n		\n			\n	\n	\n		\n		\n	\n	\n			\n		\n	\n	\n		\n			\n		\n		\n			\n		\n	\n\n		\n		\n			List		\n	\n\n					\n	\n		\n			\n	\n\n		\n		\n			Month		\n	\n\n					\n	\n		\n			\n	\n\n		\n		\n			Day		\n	\n\n			\n\n	\n\n\n\n\n	\n\n	\n	\n		\n	\n		\n	\n\n	\n\n\n		\n	\n		\n	\n\n	\n\n	\n\n\n	\n	Today\n\n	\n	\n		\n							\n					Now				\n				\n					Now				\n					\n					 - \n			\n				\n					30/4/2026				\n				\n					April 30				\n			\n				\n	\n\n	\n	\n		Select date.	\n	\n	\n	\n		\n	\n\n	\n	\n		\n	\n\n	\n\n\n	\n	\n	\n\n\n\n\n		\n		\n\n							\n				\n	\n		\n			April 2026		\n	\n\n\n				\n\n	\n	\n		\n			Tue		\n		\n			21		\n	\n\n\n	\n		\n			\n	\n\n\n			\n\n				\n					\n	\n		Postcode Week at Lynton & Barnstaple Railway\, Woody Bay	\n\n					\n		\n		April 18 - April 26	\n	\n					\n	\n		Lynton & Barnstaple Railway	\n	\n		Woody Bay Station\, Martinhoe Cross\, Parracombe\, United Kingdom	\n	\n									\n\n				\n	 Postcode Week – Special Local Offer!  Join us for Postcode Week\, running on selected days between 18th – 26th April\, and enjoy a fantastic local travel offer!  EX & TA… \n\n				\n	\n		£2.00	\n\n\n			\n		\n	\n\n\n\n							\n				\n				\n\n	\n	\n		\n			Tue		\n		\n			21		\n	\n\n\n	\n		\n			\n	\n\n\n			\n\n				\n					\n	\n		Yin to Yang Morning Rise Yoga with Tors Park	\n\n					\n		\n		April 21 9:30 am - 10:30 am	\n	\n\n	\n		\n\n	\n	\n	\n\n		Yin to Yang Morning Rise Yoga with Tors Park\n	\n\n\n					\n	\n		Tors Park	\n	\n		Countisbury Hill\, Lynmouth\, United Kingdom	\n	\n									\n\n				\n	Yin to Yang Morning Rise Yoga with Tors Park is a guided morning class in Lynmouth designed to help you begin the day with calm focus\, gentle movement and renewed… \n\n				\n	\n		£12.50	\n\n\n			\n		\n	\n\n\n\n							\n				\n				\n\n	\n	\n		\n			Tue		\n		\n			21		\n	\n\n\n	\n		\n			\n	\n\n\n			\n\n				\n					\n	\n		Postcode Week at Woody Bay Station	\n\n					\n		\n		April 21 10:00 am - 4:00 pm	\n	\n\n	\n		\n\n	\n	\n	\n\n		Postcode Week at Woody Bay\n	\n\n\n					\n	\n		Lynton & Barnstaple Railway	\n	\n		Woody Bay Station\, Martinhoe Cross\, Parracombe\, United Kingdom	\n	\n									\n\n				\n	Postcode Week (Running days between the 18th - 26th of April ) During our service running days between the 18th - 26th of April EX & TA postcode residents are invited… \n\n				\n	\n		£2.00	\n\n\n			\n		\n	\n\n\n\n							\n				\n				\n\n	\n	\n		\n			Tue		\n		\n			21		\n	\n\n\n	\n		\n			\n	\n\n\n			\n\n				\n					\n	\n		Cosmic Music Quiz Night at The Crown Hotel\, Lynton	\n\n					\n		\n		April 21 7:30 pm - 10:30 pm	\n	\n					\n	\n		The Crown Hotel	\n	\n		Market Street\, Lynton\, United Kingdom	\n	\n									\n\n				\n	Ready for a quiz night that’s a little… out of this world? Following the Artemis trip to the moon\, we’re taking our next music quiz deep into space. Expect a… \n\n				\n	\n		£5.00	\n\n\n			\n		\n	\n\n\n\n							\n				\n				\n\n	\n	\n		\n			Tue		\n		\n			21		\n	\n\n\n	\n		\n			\n	\n\n\n			\n\n				\n					\n	\n		The Housemaid (15) Lynton Cinema	\n\n					\n		\n		April 21 8:00 pm - 10:30 pm	\n	\n\n	\n		\n\n	\n	\n	\n\n		The Housemaid (15) Lynton Cinema\n	\n\n\n					\n	\n		Lynton Cinema	\n	\n		Lee Road\, Lynton\, United Kingdom	\n	\n									\n\n				\n	Millie is a struggling woman who is relieved to get a fresh start as a housemaid to Nina and Andrew\, an upscale\, wealthy couple. She soon learns that the family’s… \n\n				\n	\n		£5.00	\n\n\n			\n		\n	\n\n\n\n							\n				\n				\n\n	\n	\n		\n			Wed		\n		\n			22		\n	\n\n\n	\n		\n			\n	\n\n\n			\n\n				\n					\n	\n		Postcode Week at Woody Bay Station	\n\n					\n		\n		April 22 10:00 am - 4:00 pm	\n	\n\n	\n		\n\n	\n	\n	\n\n		Postcode Week at Woody Bay\n	\n\n\n					\n	\n		Lynton & Barnstaple Railway	\n	\n		Woody Bay Station\, Martinhoe Cross\, Parracombe\, United Kingdom	\n	\n									\n\n				\n	Postcode Week (Running days between the 18th - 26th of April ) During our service running days between the 18th - 26th of April EX & TA postcode residents are invited… \n\n				\n	\n		£2.00	\n\n\n			\n		\n	\n\n\n\n							\n				\n				\n\n	\n	\n		\n			Wed		\n		\n			22		\n	\n\n\n	\n		\n			\n	\n\n\n			\n\n				\n					\n	\n		The Housemaid (15) Lynton Cinema	\n\n					\n		\n		April 22 8:00 pm - 10:30 pm	\n	\n\n	\n		\n\n	\n	\n	\n\n		The Housemaid (15) Lynton Cinema\n	\n\n\n					\n	\n		Lynton Cinema	\n	\n		Lee Road\, Lynton\, United Kingdom	\n	\n									\n\n				\n	Millie is a struggling woman who is relieved to get a fresh start as a housemaid to Nina and Andrew\, an upscale\, wealthy couple. She soon learns that the family’s… \n\n				\n	\n		£5.00	\n\n\n			\n		\n	\n\n\n\n							\n				\n				\n\n	\n	\n		\n			Thu		\n		\n			23		\n	\n\n\n	\n		\n			\n	\n\n\n			\n\n				\n					\n	\n		Postcode Week at Woody Bay Station	\n\n					\n		\n		April 23 10:00 am - 4:00 pm	\n	\n\n	\n		\n\n	\n	\n	\n\n		Postcode Week at Woody Bay\n	\n\n\n					\n	\n		Lynton & Barnstaple Railway	\n	\n		Woody Bay Station\, Martinhoe Cross\, Parracombe\, United Kingdom	\n	\n									\n\n				\n	Postcode Week (Running days between the 18th - 26th of April ) During our service running days between the 18th - 26th of April EX & TA postcode residents are invited… \n\n				\n	\n		£2.00	\n\n\n			\n		\n	\n\n\n\n							\n				\n				\n\n	\n	\n		\n			Thu		\n		\n			23		\n	\n\n\n	\n		\n			\n	\n\n\n			\n\n				\n					\n	\n		The Housemaid (15) Lynton Cinema	\n\n					\n		\n		April 23 8:00 pm - 10:30 pm	\n	\n\n	\n		\n\n	\n	\n	\n\n		The Housemaid (15) Lynton Cinema\n	\n\n\n					\n	\n		Lynton Cinema	\n	\n		Lee Road\, Lynton\, United Kingdom	\n	\n									\n\n				\n	Millie is a struggling woman who is relieved to get a fresh start as a housemaid to Nina and Andrew\, an upscale\, wealthy couple. She soon learns that the family’s… \n\n				\n	\n		£5.00	\n\n\n			\n		\n	\n\n\n\n							\n				\n				\n\n	\n	\n		\n			Fri		\n		\n			24		\n	\n\n\n	\n		\n			\n	\n\n\n			\n\n				\n					\n	\n		Amber Louise LIVE at the Blue Ball Inn\, Countisbury	\n\n					\n		\n		April 24 7:00 pm - 9:00 pm	\n	\n					\n	\n		Blue Ball Inn	\n	\n		Countisbury Hill\, Lynmouth\, United Kingdom	\n	\n									\n\n				\n	Spend your Friday evening on Exmoor with live acoustic music from Amber Louise at Blue Ball Inn in Countisbury on Friday 24th April from 7–9pm. Amber Louise brings a relaxed… \n\n				\n	\n		Free	\n\n\n			\n		\n	\n\n\n\n							\n				\n				\n\n	\n	\n		\n			Fri		\n		\n			24		\n	\n\n\n	\n		\n			\n	\n\n\n			\n\n				\n					\n	\n		Rose of Nevada (15) Lynton Cinema	\n\n					\n		\n		April 24 8:00 pm - 10:00 pm	\n	\n\n	\n		\n\n	\n	\n	\n\n		Rose of Nevada (15) Lynton Cinema\n	\n\n\n					\n	\n		Lynton Cinema	\n	\n		Lee Road\, Lynton\, United Kingdom	\n	\n									\n\n				\n	A fishing boat reappears in a Cornish coastal village 30 years after vanishing\, but unnerving and inexplicable events unfold when three men take it out on the sea once again… \n\n				\n	\n		£5.00	\n\n\n			\n		\n	\n\n\n\n							\n				\n				\n\n	\n	\n		\n			Fri		\n		\n			24		\n	\n\n\n	\n		\n			\n	\n\n\n			\n\n				\n					\n	\n		Charity Bingo at The Old Station Inn	\n\n					\n		\n		April 24 8:00 pm - 10:30 pm	\n	\n					\n	\n		The Old Station Inn	\n	\n		Blackmoor Gate\, Kentisbury\, United Kingdom	\n	\n									\n\n				\n	Bingo and Raffle Night in aid of Braunton FC Women's Walking Football Team & Service Dogs UK Eyes Down 8pmBook of 6 games plus 2 flyers £7Raffle £1 strip Happiness… \n\n				\n	\n		Free	\n\n\n			\n		\n	\n\n\n\n							\n				\n				\n\n	\n	\n		\n			Sat		\n		\n			25		\n	\n\n\n	\n		\n			\n	\n\n\n			\n\n				\n					\n	\n		Postcode Week at Woody Bay Station	\n\n					\n		\n		April 25 10:00 am - 4:00 pm	\n	\n\n	\n		\n\n	\n	\n	\n\n		Postcode Week at Woody Bay\n	\n\n\n					\n	\n		Lynton & Barnstaple Railway	\n	\n		Woody Bay Station\, Martinhoe Cross\, Parracombe\, United Kingdom	\n	\n									\n\n				\n	Postcode Week (Running days between the 18th - 26th of April ) During our service running days between the 18th - 26th of April EX & TA postcode residents are invited… \n\n				\n	\n		£2.00	\n\n\n			\n		\n	\n\n\n\n							\n				\n				\n\n	\n	\n		\n			Sat		\n		\n			25		\n	\n\n\n	\n		\n			\n	\n\n\n			\n\n				\n					\n	\n		Maya and the Wave (12A) Lynton Cinema	\n\n					\n		\n		April 25 2:30 pm - 4:30 pm	\n	\n\n	\n		\n\n	\n	\n	\n\n		Maya and the Wave (12A) Lynton Cinema\n	\n\n\n					\n	\n		Lynton Cinema	\n	\n		Lee Road\, Lynton\, United Kingdom	\n	\n									\n\n				\n	This US documentary tells the inspiring story of the Brazilian big wave surfer Maya Gabeira who overcomes serious injury and sexist attitudes towards women in her surfing discipline to reach… \n\n				\n	\n		£5.00	\n\n\n			\n		\n	\n\n\n\n							\n				\n				\n\n	\n	\n		\n			Sat		\n		\n			25		\n	\n\n\n	\n		\n			\n	\n\n\n			\n\n				\n					\n	\n		Mouse Race Night – Lyn Tennis Club Fundraiser	\n\n					\n		\n		April 25 6:30 pm - 9:30 pm	\n	\n					\n	\n		Lynton Town Hall	\n	\n		Lee Road\, Lynton\, North Devon\, United Kingdom	\n	\n									\n\n				\n	We’re raising funds to resurface the tennis courts here in Lynton\, North Devon — and we’d love your support! If you fancy a fun evening out\, why not join us… \n\n				\n	\n		£5.00	\n\n\n			\n		\n	\n\n\n\n							\n				\n				\n\n	\n	\n		\n			Sat		\n		\n			25		\n	\n\n\n	\n		\n			\n	\n\n\n			\n\n				\n					\n	\n		Rose of Nevada (15) Lynton Cinema	\n\n					\n		\n		April 25 8:00 pm - 10:00 pm	\n	\n\n	\n		\n\n	\n	\n	\n\n		Rose of Nevada (15) Lynton Cinema\n	\n\n\n					\n	\n		Lynton Cinema	\n	\n		Lee Road\, Lynton\, United Kingdom	\n	\n									\n\n				\n	A fishing boat reappears in a Cornish coastal village 30 years after vanishing\, but unnerving and inexplicable events unfold when three men take it out on the sea once again… \n\n				\n	\n		£5.00	\n\n\n			\n		\n	\n\n\n\n							\n				\n				\n\n	\n	\n		\n			Sun		\n		\n			26		\n	\n\n\n	\n		\n			\n	\n\n\n			\n\n				\n					\n	\n		Postcode Week at Woody Bay Station	\n\n					\n		\n		April 26 10:00 am - 4:00 pm	\n	\n\n	\n		\n\n	\n	\n	\n\n		Postcode Week at Woody Bay\n	\n\n\n					\n	\n		Lynton & Barnstaple Railway	\n	\n		Woody Bay Station\, Martinhoe Cross\, Parracombe\, United Kingdom	\n	\n									\n\n				\n	Postcode Week (Running days between the 18th - 26th of April ) During our service running days between the 18th - 26th of April EX & TA postcode residents are invited… \n\n				\n	\n		£2.00	\n\n\n			\n		\n	\n\n\n\n							\n				\n				\n\n	\n	\n		\n			Sun		\n		\n			26		\n	\n\n\n	\n		\n			\n	\n\n\n			\n\n				\n					\n	\n		Maya and the Wave (12A) Lynton Cinema	\n\n					\n		\n		April 26 2:30 pm - 4:30 pm	\n	\n\n	\n		\n\n	\n	\n	\n\n		Maya and the Wave (12A) Lynton Cinema\n	\n\n\n					\n	\n		Lynton Cinema	\n	\n		Lee Road\, Lynton\, United Kingdom	\n	\n									\n\n				\n	This US documentary tells the inspiring story of the Brazilian big wave surfer Maya Gabeira who overcomes serious injury and sexist attitudes towards women in her surfing discipline to reach… \n\n				\n	\n		£5.00	\n\n\n			\n		\n	\n\n\n\n							\n				\n				\n\n	\n	\n		\n			Sun		\n		\n			26		\n	\n\n\n	\n		\n			\n	\n\n\n			\n\n				\n					\n	\n		Rose of Nevada (15) Lynton Cinema	\n\n					\n		\n		April 26 8:00 pm - 10:00 pm	\n	\n\n	\n		\n\n	\n	\n	\n\n		Rose of Nevada (15) Lynton Cinema\n	\n\n\n					\n	\n		Lynton Cinema	\n	\n		Lee Road\, Lynton\, United Kingdom	\n	\n									\n\n				\n	A fishing boat reappears in a Cornish coastal village 30 years after vanishing\, but unnerving and inexplicable events unfold when three men take it out on the sea once again… \n\n				\n	\n		£5.00	\n\n\n			\n		\n	\n\n\n\n							\n				\n				\n\n	\n	\n		\n			Mon		\n		\n			27		\n	\n\n\n	\n		\n			\n	\n\n\n			\n\n				\n					\n	\n		Rose of Nevada (15) Lynton Cinema	\n\n					\n		\n		April 27 2:30 pm - 4:30 pm	\n	\n\n	\n		\n\n	\n	\n	\n\n		Rose of Nevada (15) Lynton Cinema\n	\n\n\n					\n	\n		Lynton Cinema	\n	\n		Lee Road\, Lynton\, United Kingdom	\n	\n									\n\n				\n	A fishing boat reappears in a Cornish coastal village 30 years after vanishing\, but unnerving and inexplicable events unfold when three men take it out on the sea once again… \n\n				\n	\n		£5.00	\n\n\n			\n		\n	\n\n\n\n							\n				\n				\n\n	\n	\n		\n			Mon		\n		\n			27		\n	\n\n\n	\n		\n			\n	\n\n\n			\n\n				\n					\n	\n		Rose of Nevada (15) Lynton Cinema	\n\n					\n		\n		April 27 8:00 pm - 10:00 pm	\n	\n\n	\n		\n\n	\n	\n	\n\n		Rose of Nevada (15) Lynton Cinema\n	\n\n\n					\n	\n		Lynton Cinema	\n	\n		Lee Road\, Lynton\, United Kingdom	\n	\n									\n\n				\n	A fishing boat reappears in a Cornish coastal village 30 years after vanishing\, but unnerving and inexplicable events unfold when three men take it out on the sea once again… \n\n				\n	\n		£5.00	\n\n\n			\n		\n	\n\n\n\n							\n				\n				\n\n	\n	\n		\n			Tue		\n		\n			28		\n	\n\n\n	\n		\n			\n	\n\n\n			\n\n				\n					\n	\n		Yin to Yang Morning Rise Yoga with Tors Park	\n\n					\n		\n		April 28 9:30 am - 10:30 am	\n	\n\n	\n		\n\n	\n	\n	\n\n		Yin to Yang Morning Rise Yoga with Tors Park\n	\n\n\n					\n	\n		Tors Park	\n	\n		Countisbury Hill\, Lynmouth\, United Kingdom	\n	\n									\n\n				\n	Yin to Yang Morning Rise Yoga with Tors Park is a guided morning class in Lynmouth designed to help you begin the day with calm focus\, gentle movement and renewed… \n\n				\n	\n		£12.50	\n\n\n			\n		\n	\n\n\n\n							\n				\n				\n\n	\n	\n		\n			Tue		\n		\n			28		\n	\n\n\n	\n		\n			\n	\n\n\n			\n\n				\n					\n	\n		Rose of Nevada (15) Lynton Cinema	\n\n					\n		\n		April 28 8:00 pm - 10:00 pm	\n	\n\n	\n		\n\n	\n	\n	\n\n		Rose of Nevada (15) Lynton Cinema\n	\n\n\n					\n	\n		Lynton Cinema	\n	\n		Lee Road\, Lynton\, United Kingdom	\n	\n									\n\n				\n	A fishing boat reappears in a Cornish coastal village 30 years after vanishing\, but unnerving and inexplicable events unfold when three men take it out on the sea once again… \n\n				\n	\n		£5.00	\n\n\n			\n		\n	\n\n\n\n							\n				\n				\n\n	\n	\n		\n			Wed		\n		\n			29		\n	\n\n\n	\n		\n			\n	\n\n\n			\n\n				\n					\n	\n		Rose of Nevada (15) Lynton Cinema	\n\n					\n		\n		April 29 8:00 pm - 10:00 pm	\n	\n\n	\n		\n\n	\n	\n	\n\n		Rose of Nevada (15) Lynton Cinema\n	\n\n\n					\n	\n		Lynton Cinema	\n	\n		Lee Road\, Lynton\, United Kingdom	\n	\n									\n\n				\n	A fishing boat reappears in a Cornish coastal village 30 years after vanishing\, but unnerving and inexplicable events unfold when three men take it out on the sea once again… \n\n				\n	\n		£5.00	\n\n\n			\n		\n	\n\n\n\n							\n				\n				\n\n	\n	\n		\n			Thu		\n		\n			30		\n	\n\n\n	\n		\n			\n	\n\n\n			\n\n				\n					\n	\n		Rose of Nevada (15) Lynton Cinema	\n\n					\n		\n		April 30 8:00 pm - 10:00 pm	\n	\n\n	\n		\n\n	\n	\n	\n\n		Rose of Nevada (15) Lynton Cinema\n	\n\n\n					\n	\n		Lynton Cinema	\n	\n		Lee Road\, Lynton\, United Kingdom	\n	\n									\n\n				\n	A fishing boat reappears in a Cornish coastal village 30 years after vanishing\, but unnerving and inexplicable events unfold when three men take it out on the sea once again… \n\n				\n	\n		£5.00	\n\n\n			\n		\n	\n\n\n\n			\n		\n\n		\n	\n		\n	\n		\n	\n\n		\n			Previous Events		\n	\n\n\n		\n	\n		Today	\n\n\n		\n	\n		\n			Next Events		\n		\n	\n\n	\n\n	\n\n\n		\n	\n		\n			\n				Subscribe to calendar			\n			\n	\n\n		\n		\n			\n									\n\n	\n		Google Calendar	\n\n									\n\n	\n		iCalendar	\n\n									\n\n	\n		Outlook 365	\n\n									\n\n	\n		Outlook Live	\n\n									\n\n	\n		Export .ics file	\n\n									\n\n	\n		Export Outlook .ics file	\n\n							\n		\n	\n\n\n		\n	\n\n\n\n				\n				\n				\n				\n						\n					\n			\n						\n				\n					You are here:HomePage
URL:https://visitlyntonandlynmouth.com/event/big-al-the-wild-strawberries-live-at-the-ancient-mariner-lynmouth/
LOCATION:The Ancient Mariner\, The Ancient Mariner\, Lynmouth\, EX35 6EL\, United Kingdom
CATEGORIES:Dancing,Live Music,Social
ATTACH;FMTTYPE=image/jpeg:https://visitlyntonandlynmouth.com/wp-content/uploads/2026/04/657603040_1536406998488880_5951034242971058622_n.jpg
ORGANIZER;CN="The Ancient Mariner":MAILTO:info@bathhotellynmouth.co.uk
END:VEVENT
END:VCALENDAR