BEGIN:VCALENDAR
VERSION:2.0
PRODID:-//Visit Lynton &amp; Lynmouth - ECPv6.15.20//NONSGML v1.0//EN
CALSCALE:GREGORIAN
METHOD:PUBLISH
X-WR-CALNAME:Visit Lynton &amp; Lynmouth
X-ORIGINAL-URL:https://visitlyntonandlynmouth.com
X-WR-CALDESC:Events for Visit Lynton &amp; Lynmouth
REFRESH-INTERVAL;VALUE=DURATION:PT1H
X-Robots-Tag:noindex
X-PUBLISHED-TTL:PT1H
BEGIN:VTIMEZONE
TZID:Europe/London
BEGIN:DAYLIGHT
TZOFFSETFROM:+0000
TZOFFSETTO:+0100
TZNAME:BST
DTSTART:20250330T010000
END:DAYLIGHT
BEGIN:STANDARD
TZOFFSETFROM:+0100
TZOFFSETTO:+0000
TZNAME:GMT
DTSTART:20251026T010000
END:STANDARD
BEGIN:DAYLIGHT
TZOFFSETFROM:+0000
TZOFFSETTO:+0100
TZNAME:BST
DTSTART:20260329T010000
END:DAYLIGHT
BEGIN:STANDARD
TZOFFSETFROM:+0100
TZOFFSETTO:+0000
TZNAME:GMT
DTSTART:20261025T010000
END:STANDARD
BEGIN:DAYLIGHT
TZOFFSETFROM:+0000
TZOFFSETTO:+0100
TZNAME:BST
DTSTART:20270328T010000
END:DAYLIGHT
BEGIN:STANDARD
TZOFFSETFROM:+0100
TZOFFSETTO:+0000
TZNAME:GMT
DTSTART:20271031T010000
END:STANDARD
END:VTIMEZONE
BEGIN:VEVENT
DTSTART;VALUE=DATE:20260418
DTEND;VALUE=DATE:20260427
DTSTAMP:20260425T131011
CREATED:20260415T145714Z
LAST-MODIFIED:20260415T145714Z
UID:10008680-1776470400-1777247999@visitlyntonandlynmouth.com
SUMMARY:Postcode Week at Lynton & Barnstaple Railway\, Woody Bay
DESCRIPTION: Postcode Week – Special Local Offer! \n\nJoin us for Postcode Week\, running on selected days between 18th – 26th April\, and enjoy a fantastic local travel offer!\n EX & TA postcode residents can ride for just £2.00 return Kids under 14 travel FREE!\nSit back\, relax\, and take in the scenery on a charming 2-mile return journey (approx. 20 minutes). Each £2 ticket includes one round trip\, so don’t miss out!\n\n Running Days: 18th\, 19th\, 21st\, 22nd\, 23rd\, 25th & 26th April\nDeparture Times (Woody Bay → Killington Lane):10:45 | 11:30 | 12:15 | 13:30 | 14:15 | 15:00 | 16:00\n\n Booking Info:Tickets can be pre-booked online via our website or purchased on the day from our Station Shop.\nLocal Fare (EX & TA Postcodes)• Adult / Young Adult / Student: £2.00• Child (under 14): FREE• Disabled Passenger: £2.00• Carer: FREE\n\n Important: Please bring proof of residency (utility bill or photo ID with address) to claim your £2 fare.\n\nVisiting the Area?\nYou’re still very welcome! Standard fares apply\, and your ticket is valid all day\, so you can enjoy multiple journeys.\nStandard Fare:• Adult: £11.50• Child (under 14): FREE• Young Adult (14–21) / Student: £8.50• Disabled Passenger: £8.50• Carer: FREE• Family (2 adults + up to 3 young adults/students): £32.00\n\n Tearoom & Station ShopOpen daily from 10:00 – 16:00\, serving hot & cold drinks\, soup\, pasties\, sausage rolls\, cakes\, and cream teas. Browse our station shop for gifts and souvenirs!\n\n First Class Upgrade (On the Day Only)Upgrade your journey for just £3.50 per person and enjoy extra comfort in our First Class compartments (limited availability\, first come first served).\n\nPostcode Week: https://www.lynton-rail.co.uk/events/view/postcode-week-2\n Don’t miss this brilliant local offer! Plan your visit today and enjoy a nostalgic railway experience!
URL:https://visitlyntonandlynmouth.com/event/postcode-week-at-lynton-barnstaple-railway-woody-bay/
LOCATION:Lynton & Barnstaple Railway\, Woody Bay Station\, Martinhoe Cross\, Parracombe\, EX31 4RA\, United Kingdom
CATEGORIES:Steam Trains,Family Event
ATTACH;FMTTYPE=image/jpeg:https://visitlyntonandlynmouth.com/wp-content/uploads/2026/04/668834374_1615168720588577_6101928272244626779_n.jpg
ORGANIZER;CN="Lynton & Barnstaple Railway":MAILTO:enquiries@lynton-rail.co.uk
END:VEVENT
BEGIN:VEVENT
DTSTART;TZID=Europe/London:20260425T100000
DTEND;TZID=Europe/London:20260425T160000
DTSTAMP:20260425T131011
CREATED:20260211T193928Z
LAST-MODIFIED:20260320T201556Z
UID:10008456-1777111200-1777132800@visitlyntonandlynmouth.com
SUMMARY:Postcode Week at Woody Bay Station
DESCRIPTION:Postcode Week (Running days between the 18th – 26th of April ) \nDuring our service running days between the 18th – 26th of April EX & TA postcode residents are invited to enjoy travel for just £2.00. Plus kids under 14 years travel for free! For just £2.00 sit back and enjoy a relaxing train ride\, passengers are entitled to one round trip only. We strongly recommend pre-booking a date and train service to avoid disappointment\, however any remaining tickets will be available on the day. \nYou will need to ensure to bring along proof of residency (a utility bill or similar) or photo ID that includes your address like a drivers license to claim your £2 ride. \nLocals Fare \n\nLocal (Adult / Young Adult / Student ): £2.00\nLocal Child: FREE\nLocal Disabled Passenger: £2.00\nLocal Carer: Free\n\nHolidaying in the area during this time? You can still enjoy visiting us and travel for the standard fare. Your ticket will be valid all day so you may be able to take part in multiple journeys. Please ensure to select the standard fare option\, you will need to select a service time when booking however like mentioned before your ticket is valid for all services that day. \nStandard Fare \n\nAdult: £11.50\nChild (under 14 years): FREE\nYoung Adult – (aged 14 – 21)/ Student ( Student ID required) :£8.50\nDisabled Passenger: £8.50\nCarer: Free\nFamily – (2 adults and up to 3 student/young adult): £32.00\n\nPostcode Week Running Days: 18th\, 19th\, 21st\, 22nd\, 23rd\, 25th and 26th of April  \nDeparture Train Times From Woody Bay Station to Killington Lane: \n10.45 – 11.30 – 12.15 – 13.30 – 14.15 – 15.00 – 16.00. \n2 mile return journey (approximately 20 minutes)
URL:https://visitlyntonandlynmouth.com/event/postcode-week-at-woody-bay/2026-04-25/
LOCATION:Lynton & Barnstaple Railway\, Woody Bay Station\, Martinhoe Cross\, Parracombe\, EX31 4RA\, United Kingdom
CATEGORIES:Wellbeing & Health,Family Event
ATTACH;FMTTYPE=image/jpeg:https://visitlyntonandlynmouth.com/wp-content/uploads/2026/02/70aafedb-93ae-4336-a7b5-e31dde048d4b.jpg
ORGANIZER;CN="Lynton & Barnstaple Railway":MAILTO:enquiries@lynton-rail.co.uk
END:VEVENT
BEGIN:VEVENT
DTSTART;TZID=Europe/London:20260425T143000
DTEND;TZID=Europe/London:20260425T163000
DTSTAMP:20260425T131011
CREATED:20260312T191012Z
LAST-MODIFIED:20260312T191012Z
UID:10008576-1777127400-1777134600@visitlyntonandlynmouth.com
SUMMARY:Maya and the Wave (12A) Lynton Cinema
DESCRIPTION:This US documentary tells the inspiring story of the Brazilian big wave surfer Maya Gabeira who overcomes serious injury and sexist attitudes towards women in her surfing discipline to reach the pinnacle of her sport.
URL:https://visitlyntonandlynmouth.com/event/maya-and-the-wave-12a-lynton-cinema/2026-04-25/
LOCATION:Lynton Cinema\, Lee Road\, Lynton\, EX35 6HN\, United Kingdom
CATEGORIES:Cinema
ATTACH;FMTTYPE=image/jpeg:https://visitlyntonandlynmouth.com/wp-content/uploads/2026/03/MAYAandtheWAVE_7-scaled-1.jpg
END:VEVENT
BEGIN:VEVENT
DTSTART;TZID=Europe/London:20260425T183000
DTEND;TZID=Europe/London:20260425T213000
DTSTAMP:20260425T131011
CREATED:20260225T143150Z
LAST-MODIFIED:20260306T172614Z
UID:10008506-1777141800-1777152600@visitlyntonandlynmouth.com
SUMMARY:Mouse Race Night - Lyn Tennis Club Fundraiser
DESCRIPTION:We’re raising funds to resurface the tennis courts here in Lynton\, North Devon — and we’d love your support!\nIf you fancy a fun evening out\, why not join us at our Mouse Racing Night at Lynton Town Hall?Date and time: 25th of April 2026. 6.30 pm – 9.30 pm. It promises to be a great community event\, full of laughs and friendly competition – all for a brilliant cause.\nEvery ticket sold helps us get one step closer to giving our courts a much-needed new surface.Entry will be £5.00 on the door.\nCome along and place your bets (Cash Only\, please).We’d be delighted to see you there!There will be a bar and Horizon pizza will be outside.\nIf you would like to find out more\, please get in touch: Lyntennisclub@gmail.com
URL:https://visitlyntonandlynmouth.com/event/mouse-race-night-lyn-tennis-club-fundraiser/
LOCATION:Lynton Town Hall\, Lee Road\, Lynton\, North Devon\, EX35 6HT\, United Kingdom
CATEGORIES:Competition,Food & Drink,Fundraiser,Social,Family Event
ATTACH;FMTTYPE=image/jpeg:https://visitlyntonandlynmouth.com/wp-content/uploads/2026/02/641599144_122178763280802456_8590298007052489504_n.jpg
ORGANIZER;CN="Lyn Tennis Club":MAILTO:kateholland33@gmail.com
END:VEVENT
BEGIN:VEVENT
DTSTART;TZID=Europe/London:20260425T200000
DTEND;TZID=Europe/London:20260425T220000
DTSTAMP:20260425T131011
CREATED:20260312T190431Z
LAST-MODIFIED:20260312T190431Z
UID:10008569-1777147200-1777154400@visitlyntonandlynmouth.com
SUMMARY:Rose of Nevada (15) Lynton Cinema
DESCRIPTION:A fishing boat reappears in a Cornish coastal village 30 years after vanishing\, but unnerving and inexplicable events unfold when three men take it out on the sea once again in this supernatural drama.
URL:https://visitlyntonandlynmouth.com/event/rose-of-nevada-15-lynton-cinema/2026-04-25/
LOCATION:Lynton Cinema\, Lee Road\, Lynton\, EX35 6HN\, United Kingdom
CATEGORIES:Cinema
ATTACH;FMTTYPE=image/jpeg:https://visitlyntonandlynmouth.com/wp-content/uploads/2026/03/rose-of-nevada-01.jpeg
END:VEVENT
BEGIN:VEVENT
DTSTART;TZID=Europe/London:20260426T100000
DTEND;TZID=Europe/London:20260426T160000
DTSTAMP:20260425T131011
CREATED:20260211T193928Z
LAST-MODIFIED:20260320T201556Z
UID:10008457-1777197600-1777219200@visitlyntonandlynmouth.com
SUMMARY:Postcode Week at Woody Bay Station
DESCRIPTION:Postcode Week (Running days between the 18th – 26th of April ) \nDuring our service running days between the 18th – 26th of April EX & TA postcode residents are invited to enjoy travel for just £2.00. Plus kids under 14 years travel for free! For just £2.00 sit back and enjoy a relaxing train ride\, passengers are entitled to one round trip only. We strongly recommend pre-booking a date and train service to avoid disappointment\, however any remaining tickets will be available on the day. \nYou will need to ensure to bring along proof of residency (a utility bill or similar) or photo ID that includes your address like a drivers license to claim your £2 ride. \nLocals Fare \n\nLocal (Adult / Young Adult / Student ): £2.00\nLocal Child: FREE\nLocal Disabled Passenger: £2.00\nLocal Carer: Free\n\nHolidaying in the area during this time? You can still enjoy visiting us and travel for the standard fare. Your ticket will be valid all day so you may be able to take part in multiple journeys. Please ensure to select the standard fare option\, you will need to select a service time when booking however like mentioned before your ticket is valid for all services that day. \nStandard Fare \n\nAdult: £11.50\nChild (under 14 years): FREE\nYoung Adult – (aged 14 – 21)/ Student ( Student ID required) :£8.50\nDisabled Passenger: £8.50\nCarer: Free\nFamily – (2 adults and up to 3 student/young adult): £32.00\n\nPostcode Week Running Days: 18th\, 19th\, 21st\, 22nd\, 23rd\, 25th and 26th of April  \nDeparture Train Times From Woody Bay Station to Killington Lane: \n10.45 – 11.30 – 12.15 – 13.30 – 14.15 – 15.00 – 16.00. \n2 mile return journey (approximately 20 minutes)
URL:https://visitlyntonandlynmouth.com/event/postcode-week-at-woody-bay/2026-04-26/
LOCATION:Lynton & Barnstaple Railway\, Woody Bay Station\, Martinhoe Cross\, Parracombe\, EX31 4RA\, United Kingdom
CATEGORIES:Wellbeing & Health,Family Event
ATTACH;FMTTYPE=image/jpeg:https://visitlyntonandlynmouth.com/wp-content/uploads/2026/02/70aafedb-93ae-4336-a7b5-e31dde048d4b.jpg
ORGANIZER;CN="Lynton & Barnstaple Railway":MAILTO:enquiries@lynton-rail.co.uk
END:VEVENT
BEGIN:VEVENT
DTSTART;TZID=Europe/London:20260426T143000
DTEND;TZID=Europe/London:20260426T163000
DTSTAMP:20260425T131011
CREATED:20260312T191012Z
LAST-MODIFIED:20260312T191012Z
UID:10008577-1777213800-1777221000@visitlyntonandlynmouth.com
SUMMARY:Maya and the Wave (12A) Lynton Cinema
DESCRIPTION:This US documentary tells the inspiring story of the Brazilian big wave surfer Maya Gabeira who overcomes serious injury and sexist attitudes towards women in her surfing discipline to reach the pinnacle of her sport.
URL:https://visitlyntonandlynmouth.com/event/maya-and-the-wave-12a-lynton-cinema/2026-04-26/
LOCATION:Lynton Cinema\, Lee Road\, Lynton\, EX35 6HN\, United Kingdom
CATEGORIES:Cinema
ATTACH;FMTTYPE=image/jpeg:https://visitlyntonandlynmouth.com/wp-content/uploads/2026/03/MAYAandtheWAVE_7-scaled-1.jpg
END:VEVENT
BEGIN:VEVENT
DTSTART;TZID=Europe/London:20260426T200000
DTEND;TZID=Europe/London:20260426T220000
DTSTAMP:20260425T131011
CREATED:20260312T190431Z
LAST-MODIFIED:20260312T190431Z
UID:10008570-1777233600-1777240800@visitlyntonandlynmouth.com
SUMMARY:Rose of Nevada (15) Lynton Cinema
DESCRIPTION:A fishing boat reappears in a Cornish coastal village 30 years after vanishing\, but unnerving and inexplicable events unfold when three men take it out on the sea once again in this supernatural drama.
URL:https://visitlyntonandlynmouth.com/event/rose-of-nevada-15-lynton-cinema/2026-04-26/
LOCATION:Lynton Cinema\, Lee Road\, Lynton\, EX35 6HN\, United Kingdom
CATEGORIES:Cinema
ATTACH;FMTTYPE=image/jpeg:https://visitlyntonandlynmouth.com/wp-content/uploads/2026/03/rose-of-nevada-01.jpeg
END:VEVENT
BEGIN:VEVENT
DTSTART;TZID=Europe/London:20260427T143000
DTEND;TZID=Europe/London:20260427T163000
DTSTAMP:20260425T131011
CREATED:20260312T190431Z
LAST-MODIFIED:20260312T190431Z
UID:10008571-1777300200-1777307400@visitlyntonandlynmouth.com
SUMMARY:Rose of Nevada (15) Lynton Cinema
DESCRIPTION:A fishing boat reappears in a Cornish coastal village 30 years after vanishing\, but unnerving and inexplicable events unfold when three men take it out on the sea once again in this supernatural drama.
URL:https://visitlyntonandlynmouth.com/event/rose-of-nevada-15-lynton-cinema/2026-04-27/1/
LOCATION:Lynton Cinema\, Lee Road\, Lynton\, EX35 6HN\, United Kingdom
CATEGORIES:Cinema
ATTACH;FMTTYPE=image/jpeg:https://visitlyntonandlynmouth.com/wp-content/uploads/2026/03/rose-of-nevada-01.jpeg
END:VEVENT
BEGIN:VEVENT
DTSTART;TZID=Europe/London:20260427T200000
DTEND;TZID=Europe/London:20260427T220000
DTSTAMP:20260425T131011
CREATED:20260312T190431Z
LAST-MODIFIED:20260312T190431Z
UID:10008572-1777320000-1777327200@visitlyntonandlynmouth.com
SUMMARY:Rose of Nevada (15) Lynton Cinema
DESCRIPTION:A fishing boat reappears in a Cornish coastal village 30 years after vanishing\, but unnerving and inexplicable events unfold when three men take it out on the sea once again in this supernatural drama.
URL:https://visitlyntonandlynmouth.com/event/rose-of-nevada-15-lynton-cinema/2026-04-27/2/
LOCATION:Lynton Cinema\, Lee Road\, Lynton\, EX35 6HN\, United Kingdom
CATEGORIES:Cinema
ATTACH;FMTTYPE=image/jpeg:https://visitlyntonandlynmouth.com/wp-content/uploads/2026/03/rose-of-nevada-01.jpeg
END:VEVENT
BEGIN:VEVENT
DTSTART;TZID=Europe/London:20260428T093000
DTEND;TZID=Europe/London:20260428T103000
DTSTAMP:20260425T131011
CREATED:20260121T230053Z
LAST-MODIFIED:20260329T125953Z
UID:10008095-1777368600-1777372200@visitlyntonandlynmouth.com
SUMMARY:Yin to Yang Morning Rise Yoga with Tors Park
DESCRIPTION:Yin to Yang Morning Rise Yoga with Tors Park is a guided morning class in Lynmouth designed to help you begin the day with calm focus\, gentle movement and renewed energy. Led by Isabelle May\, it suits all levels\, whether you already practise yoga or simply want a more grounded start to the morning while staying in the area. \nThe session begins with the option to apply Sicilian lemon and fresh basil essential oils to awaken the senses\, before moving through nourishing Yin postures that encourage stillness\, release and ease. From there\, the class gradually shifts into more energising Yang movement\, building warmth\, mobility and vitality in a way that feels supportive rather than rushed. \nThe class closes with a guided meditation and body scan\, creating space to settle the mind\, let go of tension and carry a calmer rhythm into the rest of the day. For visitors staying at Tors Park or spending time in Lynmouth and on Exmoor\, it offers a thoughtful balance of stillness and movement in a peaceful setting. \nGood to know about Yin to Yang Morning Rise Yoga\n\nSuitable for all levels.\nAdvance booking is recommended.\n\nVisit the Tors Park Wellness page for more information\, or use the Tors Park schedule page for availability and booking. \nYin to Yang Morning Rise Yoga with Tors Park fits naturally into a slower stay in Lynmouth\, whether you are here to rest\, walk the coast and moor\, or simply begin the day at a gentler pace.
URL:https://visitlyntonandlynmouth.com/event/yin-to-yang-morning-rise-yoga-with-tors-park/2026-04-28/
LOCATION:Tors Park\, Countisbury Hill\, Lynmouth\, EX35 6BN\, United Kingdom
CATEGORIES:Sporting Activity,Wellbeing & Health
ATTACH;FMTTYPE=image/jpeg:https://visitlyntonandlynmouth.com/wp-content/uploads/2026/01/581728180_18335768776227022_1913315296637748476_n.jpg
END:VEVENT
BEGIN:VEVENT
DTSTART;TZID=Europe/London:20260428T200000
DTEND;TZID=Europe/London:20260428T220000
DTSTAMP:20260425T131011
CREATED:20260312T190431Z
LAST-MODIFIED:20260312T190431Z
UID:10008573-1777406400-1777413600@visitlyntonandlynmouth.com
SUMMARY:Rose of Nevada (15) Lynton Cinema
DESCRIPTION:A fishing boat reappears in a Cornish coastal village 30 years after vanishing\, but unnerving and inexplicable events unfold when three men take it out on the sea once again in this supernatural drama.
URL:https://visitlyntonandlynmouth.com/event/rose-of-nevada-15-lynton-cinema/2026-04-28/
LOCATION:Lynton Cinema\, Lee Road\, Lynton\, EX35 6HN\, United Kingdom
CATEGORIES:Cinema
ATTACH;FMTTYPE=image/jpeg:https://visitlyntonandlynmouth.com/wp-content/uploads/2026/03/rose-of-nevada-01.jpeg
END:VEVENT
BEGIN:VEVENT
DTSTART;TZID=Europe/London:20260429T200000
DTEND;TZID=Europe/London:20260429T220000
DTSTAMP:20260425T131011
CREATED:20260312T190431Z
LAST-MODIFIED:20260312T190431Z
UID:10008574-1777492800-1777500000@visitlyntonandlynmouth.com
SUMMARY:Rose of Nevada (15) Lynton Cinema
DESCRIPTION:A fishing boat reappears in a Cornish coastal village 30 years after vanishing\, but unnerving and inexplicable events unfold when three men take it out on the sea once again in this supernatural drama.
URL:https://visitlyntonandlynmouth.com/event/rose-of-nevada-15-lynton-cinema/2026-04-29/
LOCATION:Lynton Cinema\, Lee Road\, Lynton\, EX35 6HN\, United Kingdom
CATEGORIES:Cinema
ATTACH;FMTTYPE=image/jpeg:https://visitlyntonandlynmouth.com/wp-content/uploads/2026/03/rose-of-nevada-01.jpeg
END:VEVENT
BEGIN:VEVENT
DTSTART;TZID=Europe/London:20260430T200000
DTEND;TZID=Europe/London:20260430T220000
DTSTAMP:20260425T131011
CREATED:20260312T190431Z
LAST-MODIFIED:20260312T190431Z
UID:10008575-1777579200-1777586400@visitlyntonandlynmouth.com
SUMMARY:Rose of Nevada (15) Lynton Cinema
DESCRIPTION:A fishing boat reappears in a Cornish coastal village 30 years after vanishing\, but unnerving and inexplicable events unfold when three men take it out on the sea once again in this supernatural drama.
URL:https://visitlyntonandlynmouth.com/event/rose-of-nevada-15-lynton-cinema/2026-04-30/
LOCATION:Lynton Cinema\, Lee Road\, Lynton\, EX35 6HN\, United Kingdom
CATEGORIES:Cinema
ATTACH;FMTTYPE=image/jpeg:https://visitlyntonandlynmouth.com/wp-content/uploads/2026/03/rose-of-nevada-01.jpeg
END:VEVENT
END:VCALENDAR