BEGIN:VCALENDAR
VERSION:2.0
PRODID:-//Visit Lynton &amp; Lynmouth - ECPv6.15.20//NONSGML v1.0//EN
CALSCALE:GREGORIAN
METHOD:PUBLISH
X-ORIGINAL-URL:https://visitlyntonandlynmouth.com
X-WR-CALDESC:Events for Visit Lynton &amp; Lynmouth
REFRESH-INTERVAL;VALUE=DURATION:PT1H
X-Robots-Tag:noindex
X-PUBLISHED-TTL:PT1H
BEGIN:VTIMEZONE
TZID:Europe/London
BEGIN:DAYLIGHT
TZOFFSETFROM:+0000
TZOFFSETTO:+0100
TZNAME:BST
DTSTART:20250330T010000
END:DAYLIGHT
BEGIN:STANDARD
TZOFFSETFROM:+0100
TZOFFSETTO:+0000
TZNAME:GMT
DTSTART:20251026T010000
END:STANDARD
BEGIN:DAYLIGHT
TZOFFSETFROM:+0000
TZOFFSETTO:+0100
TZNAME:BST
DTSTART:20260329T010000
END:DAYLIGHT
BEGIN:STANDARD
TZOFFSETFROM:+0100
TZOFFSETTO:+0000
TZNAME:GMT
DTSTART:20261025T010000
END:STANDARD
BEGIN:DAYLIGHT
TZOFFSETFROM:+0000
TZOFFSETTO:+0100
TZNAME:BST
DTSTART:20270328T010000
END:DAYLIGHT
BEGIN:STANDARD
TZOFFSETFROM:+0100
TZOFFSETTO:+0000
TZNAME:GMT
DTSTART:20271031T010000
END:STANDARD
END:VTIMEZONE
BEGIN:VEVENT
DTSTART;TZID=Europe/London:20261004T110000
DTEND;TZID=Europe/London:20261004T133000
DTSTAMP:20260422T173407
CREATED:20260320T212229Z
LAST-MODIFIED:20260320T212229Z
UID:10008609-1791111600-1791120600@visitlyntonandlynmouth.com
SUMMARY:The Chill Sessions - Home Farm\, Arlington Court
DESCRIPTION:Easter Day Launch \n\nWith Easter Egg Hunt and Crafts. Must be booked via our bookwhen platform.\n*Home Farm is a Working Farm and Children must be supervised at all times.\n\n Introducing The Chill Sessions A new SEND The Help Family Retreat at Home Farm\, Arlington Court.\nOnce a month\, on the first Sunday of every month\, we’ll be opening up a calm and welcoming space for families raising children with SEND to spend time together in nature.\n\nIf you know us through The Chill Tent\, you’ll recognise the same ethos here – creating gentle\, supportive environments where people can pause\, regulate and just be themselves. This time though\, we’re bringing those “chill” vibes outdoors.\n\nFamilies can expect:\n Nature-based arts & crafts Gardening and outdoor activities Wellbeing walks across the estate Space to connect with other SEND families A relaxed\, accepting environment where nobody needs to explain themselves\n\nThese sessions are completely free\, thanks to funding from the National Lottery Community Fund\, and we are incredibly grateful for their support in making opportunities like this accessible to families who need them.\nA huge thank you as well to Shannon and The Gardeners Co. for trusting us with this beautiful space at Home Farm and allowing us to create something special for the SEND community here.\nParenting children with additional needs can sometimes feel isolating.The Chill Sessions are about changing that.\nA place to breathe.A place to connect.A place where everyone belongs.\n\n Home Farm\, Arlington Court First Sunday of every month Free – booking required
URL:https://visitlyntonandlynmouth.com/event/the-chill-sessions-home-farm-arlington-court/2026-10-04/
LOCATION:Home Farm\, Arlington Court\, Barnstaple\, Devon\, EX31 4LP\, United Kingdom
CATEGORIES:Kids,Wellbeing & Health,Family Event
ATTACH;FMTTYPE=image/jpeg:https://visitlyntonandlynmouth.com/wp-content/uploads/2026/03/648512467_122233049750281166_2443925527713292064_n.jpg
ORGANIZER;CN="SEND the Help CIC":MAILTO:sendingthehelp@gmail.com
END:VEVENT
BEGIN:VEVENT
DTSTART;TZID=Europe/London:20261016T100000
DTEND;TZID=Europe/London:20261016T120000
DTSTAMP:20260422T173407
CREATED:20241014T142330Z
LAST-MODIFIED:20260306T174613Z
UID:10002326-1792144800-1792152000@visitlyntonandlynmouth.com
SUMMARY:Creative Writing Class @ Lynton Library
DESCRIPTION:Come and join us at Lynton Library every third Friday of the month. \nAll welcome\, bring a pen and paper! \nEmail lynton.library@librariesunlimited.org.uk for more information.
URL:https://visitlyntonandlynmouth.com/event/creative-writing-class-lynton-library/2026-10-16/
LOCATION:Lynton Library\, Market Hall\, Market Street\, Lynton\, EX35 6AF\, United Kingdom
CATEGORIES:Social,Educational,Arts & Craft
ATTACH;FMTTYPE=image/jpeg:https://visitlyntonandlynmouth.com/wp-content/uploads/2024/10/300-creative-writing-posts.png.jpeg
END:VEVENT
BEGIN:VEVENT
DTSTART;VALUE=DATE:20261024
DTEND;VALUE=DATE:20261102
DTSTAMP:20260422T173407
CREATED:20260211T175331Z
LAST-MODIFIED:20260313T204529Z
UID:10008403-1792800000-1793577599@visitlyntonandlynmouth.com
SUMMARY:Lynton & Lynmouth Pumpkin Trail 2026
DESCRIPTION: Lynton & Lynmouth Pumpkin Trail 2026  October Half Term 2026 (late October – early November) Across Lynton & Lynmouth FREE family fun!\nJoin us this October Half Term for the Lynton & Lynmouth Pumpkin Trail – a fun\, free\, and family-friendly adventure through our twin villages!\n\n What is it?Local businesses and residents will be decorating their windows with creative\, spooky\, or silly pumpkins — and 26 trail answers will be hidden in shop windows along the route.\n\n How it works: Pick up your Pumpkin Trail map from participating businesses Follow the trail through Lynton & Lynmouth to find all 26 answers Fill in your trail sheet as you go Hand it back to be entered into our prize draw!\n The trail is designed to encourage families to explore both villages while having lots of seasonal fun.\n Great fun\, great prizes\, and even greater community spirit!\n Don’t forget to tag your photos with #visitlyntonandlynmouth — we love seeing your spooky snapshots!
URL:https://visitlyntonandlynmouth.com/event/lynton-lynmouth-pumpkin-trail-2026/
LOCATION:Lynton & Lynmouth
CATEGORIES:Half Term,Competition,Kids,Social,Walking,Family Event
ATTACH;FMTTYPE=image/jpeg:https://visitlyntonandlynmouth.com/wp-content/uploads/2026/02/620150665_1516351696887374_6913429777422192805_n.jpg
END:VEVENT
BEGIN:VEVENT
DTSTART;TZID=Europe/London:20261030T200000
DTEND;TZID=Europe/London:20261030T220000
DTSTAMP:20260422T173407
CREATED:20250326T135157Z
LAST-MODIFIED:20260327T151931Z
UID:10005223-1793390400-1793397600@visitlyntonandlynmouth.com
SUMMARY:Last Friday Jazz Session
DESCRIPTION:Join us at our new venue … The Queens Pub in Lynton. The NEW home of the Lynton Jazz Club featuring your favourite band … The Stumblers and Guests.\n\n\n\nGreat Ales\, Wines & Spirits\nGreat Atmosphere!\nGreat Fun!\nGreat Food (Booking Essential: Tel: 01598 751646)\n\n\n\nFREE Admission | Donations Greatly Appreciated\n\n\nALL WELCOME!
URL:https://visitlyntonandlynmouth.com/event/last-friday-jazz-session-queens-pub/2026-10-30/
LOCATION:The Queens\, 8 Queen Street\, Lynton\, EX35 6AA\, United Kingdom
CATEGORIES:Live Music
ATTACH;FMTTYPE=image/webp:https://visitlyntonandlynmouth.com/wp-content/uploads/2025/03/Stumblers-Facebook-Events-Jazz-Queens.webp
END:VEVENT
END:VCALENDAR