BEGIN:VCALENDAR
VERSION:2.0
PRODID:-//Visit Lynton &amp; Lynmouth - ECPv6.15.20//NONSGML v1.0//EN
CALSCALE:GREGORIAN
METHOD:PUBLISH
X-ORIGINAL-URL:https://visitlyntonandlynmouth.com
X-WR-CALDESC:Events for Visit Lynton &amp; Lynmouth
REFRESH-INTERVAL;VALUE=DURATION:PT1H
X-Robots-Tag:noindex
X-PUBLISHED-TTL:PT1H
BEGIN:VTIMEZONE
TZID:Europe/London
BEGIN:DAYLIGHT
TZOFFSETFROM:+0000
TZOFFSETTO:+0100
TZNAME:BST
DTSTART:20250330T010000
END:DAYLIGHT
BEGIN:STANDARD
TZOFFSETFROM:+0100
TZOFFSETTO:+0000
TZNAME:GMT
DTSTART:20251026T010000
END:STANDARD
BEGIN:DAYLIGHT
TZOFFSETFROM:+0000
TZOFFSETTO:+0100
TZNAME:BST
DTSTART:20260329T010000
END:DAYLIGHT
BEGIN:STANDARD
TZOFFSETFROM:+0100
TZOFFSETTO:+0000
TZNAME:GMT
DTSTART:20261025T010000
END:STANDARD
BEGIN:DAYLIGHT
TZOFFSETFROM:+0000
TZOFFSETTO:+0100
TZNAME:BST
DTSTART:20270328T010000
END:DAYLIGHT
BEGIN:STANDARD
TZOFFSETFROM:+0100
TZOFFSETTO:+0000
TZNAME:GMT
DTSTART:20271031T010000
END:STANDARD
END:VTIMEZONE
BEGIN:VEVENT
DTSTART;TZID=Europe/London:20260801T170000
DTEND;TZID=Europe/London:20260801T180000
DTSTAMP:20260423T164859
CREATED:20260121T160722Z
LAST-MODIFIED:20260306T173832Z
UID:10008019-1785603600-1785607200@visitlyntonandlynmouth.com
SUMMARY:TRANSFORMATIVE SOUND HEALING WITH GONG BATHS at Tors Park\, Lynmouth
DESCRIPTION:First Saturday of every month \nDiscover the transformative power of sound with gong baths\, a deeply relaxing and meditative experience that soothes the mind and body. Using the resonant vibrations of gongs and other instruments\, these sessions create an immersive soundscape that promotes healing\, reduces stress\, and fosters a profound sense of inner calm. \nGong baths are ideal for anyone looking to unwind\, reconnect\, and recharge. As you lie comfortably\, the gentle waves of sound wash over you\, quietening the mind and restoring balance to your energy. Whether you’re new to sound healing or a regular participant\, gong baths offer a unique opportunity to harmonise with the tranquil surroundings of Exmoor.
URL:https://visitlyntonandlynmouth.com/event/transformative-sound-healing-with-gong-baths-at-tors-park-lynmouth/2026-08-01/
LOCATION:Tors Park\, Countisbury Hill\, Lynmouth\, EX35 6BN\, United Kingdom
ATTACH;FMTTYPE=image/png:https://visitlyntonandlynmouth.com/wp-content/uploads/2026/01/Screenshot-2026-01-21-160606.png
END:VEVENT
BEGIN:VEVENT
DTSTART;TZID=Europe/London:20260802T110000
DTEND;TZID=Europe/London:20260802T133000
DTSTAMP:20260423T164859
CREATED:20260320T212229Z
LAST-MODIFIED:20260320T212229Z
UID:10008607-1785668400-1785677400@visitlyntonandlynmouth.com
SUMMARY:The Chill Sessions - Home Farm\, Arlington Court
DESCRIPTION:Easter Day Launch \n\nWith Easter Egg Hunt and Crafts. Must be booked via our bookwhen platform.\n*Home Farm is a Working Farm and Children must be supervised at all times.\n\n Introducing The Chill Sessions A new SEND The Help Family Retreat at Home Farm\, Arlington Court.\nOnce a month\, on the first Sunday of every month\, we’ll be opening up a calm and welcoming space for families raising children with SEND to spend time together in nature.\n\nIf you know us through The Chill Tent\, you’ll recognise the same ethos here – creating gentle\, supportive environments where people can pause\, regulate and just be themselves. This time though\, we’re bringing those “chill” vibes outdoors.\n\nFamilies can expect:\n Nature-based arts & crafts Gardening and outdoor activities Wellbeing walks across the estate Space to connect with other SEND families A relaxed\, accepting environment where nobody needs to explain themselves\n\nThese sessions are completely free\, thanks to funding from the National Lottery Community Fund\, and we are incredibly grateful for their support in making opportunities like this accessible to families who need them.\nA huge thank you as well to Shannon and The Gardeners Co. for trusting us with this beautiful space at Home Farm and allowing us to create something special for the SEND community here.\nParenting children with additional needs can sometimes feel isolating.The Chill Sessions are about changing that.\nA place to breathe.A place to connect.A place where everyone belongs.\n\n Home Farm\, Arlington Court First Sunday of every month Free – booking required
URL:https://visitlyntonandlynmouth.com/event/the-chill-sessions-home-farm-arlington-court/2026-08-02/
LOCATION:Home Farm\, Arlington Court\, Barnstaple\, Devon\, EX31 4LP\, United Kingdom
CATEGORIES:Kids,Wellbeing & Health,Family Event
ATTACH;FMTTYPE=image/jpeg:https://visitlyntonandlynmouth.com/wp-content/uploads/2026/03/648512467_122233049750281166_2443925527713292064_n.jpg
ORGANIZER;CN="SEND the Help CIC":MAILTO:sendingthehelp@gmail.com
END:VEVENT
BEGIN:VEVENT
DTSTART;TZID=Europe/London:20260803T143000
DTEND;TZID=Europe/London:20260803T163000
DTSTAMP:20260423T164859
CREATED:20260121T164443Z
LAST-MODIFIED:20260327T151717Z
UID:10008632-1785767400-1785774600@visitlyntonandlynmouth.com
SUMMARY:Rock pooling with Exmoor Rangers in Lynmouth
DESCRIPTION:Rock pooling with Exmoor Rangers in Lynmouth\nRock pooling is a hands-on coastal activity for curious children\, families and anyone who wants to take a closer look at life on the shoreline. Set against the rocky edge of Lynmouth\, these guided sessions explore the pools\, crevices and sea-washed edges where crabs\, anemones\, chitons and other small creatures can be found. \nLed by Exmoor National Park Rangers\, the event offers a simple\, practical introduction to the wildlife that lives between land and sea. It is a chance to slow down\, look properly\, and discover how much is happening in places that many people walk past without noticing. For visitors spending time in Lynmouth\, it is a good fit for families\, nature lovers and anyone looking for something active but not overcomplicated. \nConditions on the shoreline can change quickly\, so it is worth dressing for the weather and wearing footwear suitable for wet\, uneven rocks. Water shoes or sturdy wellies are encouraged. Nets\, buckets and guidance are provided on the day. \nAttendance is free. \nIf you would like to support this kind of work\, donations to CareMoor can be made at Lynmouth National Park Centre opposite. \nFor enquiries\, contact 07970 099116 or email cwray@exmoor-nationalpark.gov.uk
URL:https://visitlyntonandlynmouth.com/event/rock-pooling-with-the-rangers-exmoor-national-park-lynmouth/2026-08-03/
LOCATION:Exmoor National Park Centre\, The Esplanade\, Lynmouth\, EX35 6EQ
CATEGORIES:Kids,Educational,Family Event
ATTACH;FMTTYPE=image/jpeg:https://visitlyntonandlynmouth.com/wp-content/uploads/2026/01/Rockpooling.jpg
ORGANIZER;CN="Exmoor National Park Centre Lynmouth":MAILTO:NPCLynmouth@exmoor-nationalpark.gov.uk
END:VEVENT
BEGIN:VEVENT
DTSTART;TZID=Europe/London:20260807T100000
DTEND;TZID=Europe/London:20260807T130000
DTSTAMP:20260423T164859
CREATED:20260121T223559Z
LAST-MODIFIED:20260329T130042Z
UID:10008075-1786096800-1786107600@visitlyntonandlynmouth.com
SUMMARY:Guided Walk: Discover the Doone Valley
DESCRIPTION:Join the walking team at the Lorna Doone Valley on a two-hour guided walk around the Doone Valley and surrounding Exmoor Landscape. Each walk will take in amazing views of the vast and diverse landscape of the Doone Valley and Exmoor. Along the way you may be lucky enough to spot Exmoor ponies\, deer and a variety of different birds. Along with fantastic wildlife the valley is home to array of different wildflower and ancient trees.
URL:https://visitlyntonandlynmouth.com/event/guided-walk-discover-the-doone-valley/2026-08-07/
LOCATION:Lorna Doone Valley\, Lorna Doone Farm\, Malmsmead\, Lynton\, EX35 6NU\, United Kingdom
CATEGORIES:Walking,Wellbeing & Health,Family Event
ATTACH;FMTTYPE=image/jpeg:https://visitlyntonandlynmouth.com/wp-content/uploads/2026/01/lornadoone-buttery-may2023-1-1.jpg
END:VEVENT
BEGIN:VEVENT
DTSTART;TZID=Europe/London:20260809T090000
DTEND;TZID=Europe/London:20260809T170000
DTSTAMP:20260423T164859
CREATED:20260211T174847Z
LAST-MODIFIED:20260306T150321Z
UID:10008402-1786266000-1786294800@visitlyntonandlynmouth.com
SUMMARY:Brendon Show 2026
DESCRIPTION:Brendon Show 2026 takes place Sunday 9th August at Brendon Barton\, Brendon\, near Lynton\, Exmoor EX35 6LPSchedules for this years show will follow in the coming months\, please keep an eye on our Facebook Page for updates.\nEnquiries to our Facebook page or Mrs Maria Floyd – email mariafloyd@gmail.com and telephone01598 741148
URL:https://visitlyntonandlynmouth.com/event/brendon-show-2026/
LOCATION:Brendon Show Field\, Brendon Barton\, Lynton\, EX35 6LP\, United Kingdom
CATEGORIES:Food & Drink,Kids,Social,Sporting Activity,Family Event,Exhibition
ATTACH;FMTTYPE=image/jpeg:https://visitlyntonandlynmouth.com/wp-content/uploads/2026/02/615553273_1182346614052215_5872314704857351915_n.jpg
END:VEVENT
BEGIN:VEVENT
DTSTART;TZID=Europe/London:20260811T110000
DTEND;TZID=Europe/London:20260811T130000
DTSTAMP:20260423T164859
CREATED:20260121T164443Z
LAST-MODIFIED:20260327T151717Z
UID:10008633-1786446000-1786453200@visitlyntonandlynmouth.com
SUMMARY:Rock pooling with Exmoor Rangers in Lynmouth
DESCRIPTION:Rock pooling with Exmoor Rangers in Lynmouth\nRock pooling is a hands-on coastal activity for curious children\, families and anyone who wants to take a closer look at life on the shoreline. Set against the rocky edge of Lynmouth\, these guided sessions explore the pools\, crevices and sea-washed edges where crabs\, anemones\, chitons and other small creatures can be found. \nLed by Exmoor National Park Rangers\, the event offers a simple\, practical introduction to the wildlife that lives between land and sea. It is a chance to slow down\, look properly\, and discover how much is happening in places that many people walk past without noticing. For visitors spending time in Lynmouth\, it is a good fit for families\, nature lovers and anyone looking for something active but not overcomplicated. \nConditions on the shoreline can change quickly\, so it is worth dressing for the weather and wearing footwear suitable for wet\, uneven rocks. Water shoes or sturdy wellies are encouraged. Nets\, buckets and guidance are provided on the day. \nAttendance is free. \nIf you would like to support this kind of work\, donations to CareMoor can be made at Lynmouth National Park Centre opposite. \nFor enquiries\, contact 07970 099116 or email cwray@exmoor-nationalpark.gov.uk
URL:https://visitlyntonandlynmouth.com/event/rock-pooling-with-the-rangers-exmoor-national-park-lynmouth/2026-08-11/
LOCATION:Exmoor National Park Centre\, The Esplanade\, Lynmouth\, EX35 6EQ
CATEGORIES:Kids,Educational,Family Event
ATTACH;FMTTYPE=image/jpeg:https://visitlyntonandlynmouth.com/wp-content/uploads/2026/01/Rockpooling.jpg
ORGANIZER;CN="Exmoor National Park Centre Lynmouth":MAILTO:NPCLynmouth@exmoor-nationalpark.gov.uk
END:VEVENT
BEGIN:VEVENT
DTSTART;TZID=Europe/London:20260820T180000
DTEND;TZID=Europe/London:20260820T210000
DTSTAMP:20260423T164859
CREATED:20260415T145238Z
LAST-MODIFIED:20260415T145238Z
UID:10008678-1787248800-1787259600@visitlyntonandlynmouth.com
SUMMARY:Lynton & Lynmouth Bike Nights - Manor Green\, Lynmouth
DESCRIPTION:Join us for the second season of Lynmouth Bike Nights for 2026—a celebration of two-wheeled machines\, good company\, and seaside vibes. Whether you’re a regular at local bike nights or this is your first one\, everyone is welcome at ours!Getting HereLook out for the “Follow the Beast” signs along the roads—they’ll guide you straight to the heart of the action at Manor Green in Lynmouth. Once you arrive\, our friendly marshals will be on hand to show you exactly where to opark. Riders and spectators alike are welcome—come on two wheels or two feet! \nNeed Fuel?Barbrook Filling Station has kindly agreed to stay open until 7:00pm especially for Bike Night riders. Please make sure to fill up on your way to the event\, as the station will be closed by the time you head home. \nParking & EntryEntry is free\, but if you’d like to support our nominated charities\, you can make a donation on the night. As a thank-you\, you’ll receive a Bike Night sticker and be entered into our raffle to win some great prizes. Donations can be made by cash or card—we’ve got both covered! Suggested donation is £3. The money raised will support the South West Bloodbikes and LVC Fundraisers local community and charity projects. Thanks to your generosity last year we raised £4\,000 for the Bloodbikes \nWhat’s On• This event runs from 6pm to 9pm\, giving you three hours to mingle\, admire the bikes\, grab some food\, and soak in the atmosphere.• There will be a trophy awarded for the Favourite Bike of the Night—this is purely for fun and judged by good vibes alone. Every bike is in with a chance!• Some of the local shops and cafes will be open\, with more hot food and drinks will be available on site this year.• Expect a lively atmosphere with the possibility of music and bike tricks to keep the energy up throughout the evening. \nImportant NotesPlease help us keep this event going all summer by being respectful when arriving and leaving—stick to the speed limits and be considerate of the local residents. We want Bike Night to become a regular summer fixture in Lynmouth\, and your help makes that possible! \nIn Summary:• Free event• Donations = sticker + raffle entry• All bikes and people welcome• Food\, drinks\, shops\, maybe music!• Trophy for favourite bike• Respect the roads and the localsWe can’t wait to see you there. Ride safe\, follow the beast\, and bring your best bike night energy!
URL:https://visitlyntonandlynmouth.com/event/lynton-lynmouth-bike-nights-manor-green-lynmouth/2026-08-20/
LOCATION:Manor Green\, Lynmouth\, Devon\, United Kingdom
CATEGORIES:Competition,Fundraiser,Social
ATTACH;FMTTYPE=image/jpeg:https://visitlyntonandlynmouth.com/wp-content/uploads/2026/04/669404971_122173926854804839_5381785843835656641_n.jpg
END:VEVENT
BEGIN:VEVENT
DTSTART;TZID=Europe/London:20260821T100000
DTEND;TZID=Europe/London:20260821T120000
DTSTAMP:20260423T164859
CREATED:20241014T142330Z
LAST-MODIFIED:20260306T174613Z
UID:10002324-1787306400-1787313600@visitlyntonandlynmouth.com
SUMMARY:Creative Writing Class @ Lynton Library
DESCRIPTION:Come and join us at Lynton Library every third Friday of the month. \nAll welcome\, bring a pen and paper! \nEmail lynton.library@librariesunlimited.org.uk for more information.
URL:https://visitlyntonandlynmouth.com/event/creative-writing-class-lynton-library/2026-08-21/
LOCATION:Lynton Library\, Market Hall\, Market Street\, Lynton\, EX35 6AF\, United Kingdom
CATEGORIES:Social,Educational,Arts & Craft
ATTACH;FMTTYPE=image/jpeg:https://visitlyntonandlynmouth.com/wp-content/uploads/2024/10/300-creative-writing-posts.png.jpeg
END:VEVENT
BEGIN:VEVENT
DTSTART;TZID=Europe/London:20260822T100000
DTEND;TZID=Europe/London:20260822T160000
DTSTAMP:20260423T164859
CREATED:20260211T195610Z
LAST-MODIFIED:20260306T150022Z
UID:10008461-1787392800-1787414400@visitlyntonandlynmouth.com
SUMMARY:Rails and Dinosaur Scales at Woody Bay Station
DESCRIPTION:This very popular event returns with roaring summertime activities at Woody Bay\, get close-up to our visiting dinosaurs!
URL:https://visitlyntonandlynmouth.com/event/rails-and-dinosaur-scales-at-woody-bay-station/2026-08-22/
LOCATION:Lynton & Barnstaple Railway\, Woody Bay Station\, Martinhoe Cross\, Parracombe\, EX31 4RA\, United Kingdom
CATEGORIES:Half Term,Kids,Steam Trains,Family Event
ATTACH;FMTTYPE=image/jpeg:https://visitlyntonandlynmouth.com/wp-content/uploads/2026/02/find_us_lynton_barnstaple_railway-1.jpg
ORGANIZER;CN="Lynton & Barnstaple Railway":MAILTO:enquiries@lynton-rail.co.uk
END:VEVENT
BEGIN:VEVENT
DTSTART;TZID=Europe/London:20260823T100000
DTEND;TZID=Europe/London:20260823T160000
DTSTAMP:20260423T164859
CREATED:20260211T195610Z
LAST-MODIFIED:20260306T150022Z
UID:10008462-1787479200-1787500800@visitlyntonandlynmouth.com
SUMMARY:Rails and Dinosaur Scales at Woody Bay Station
DESCRIPTION:This very popular event returns with roaring summertime activities at Woody Bay\, get close-up to our visiting dinosaurs!
URL:https://visitlyntonandlynmouth.com/event/rails-and-dinosaur-scales-at-woody-bay-station/2026-08-23/
LOCATION:Lynton & Barnstaple Railway\, Woody Bay Station\, Martinhoe Cross\, Parracombe\, EX31 4RA\, United Kingdom
CATEGORIES:Half Term,Kids,Steam Trains,Family Event
ATTACH;FMTTYPE=image/jpeg:https://visitlyntonandlynmouth.com/wp-content/uploads/2026/02/find_us_lynton_barnstaple_railway-1.jpg
ORGANIZER;CN="Lynton & Barnstaple Railway":MAILTO:enquiries@lynton-rail.co.uk
END:VEVENT
BEGIN:VEVENT
DTSTART;TZID=Europe/London:20260826T110000
DTEND;TZID=Europe/London:20260826T130000
DTSTAMP:20260423T164859
CREATED:20260121T164443Z
LAST-MODIFIED:20260327T151717Z
UID:10008634-1787742000-1787749200@visitlyntonandlynmouth.com
SUMMARY:Rock pooling with Exmoor Rangers in Lynmouth
DESCRIPTION:Rock pooling with Exmoor Rangers in Lynmouth\nRock pooling is a hands-on coastal activity for curious children\, families and anyone who wants to take a closer look at life on the shoreline. Set against the rocky edge of Lynmouth\, these guided sessions explore the pools\, crevices and sea-washed edges where crabs\, anemones\, chitons and other small creatures can be found. \nLed by Exmoor National Park Rangers\, the event offers a simple\, practical introduction to the wildlife that lives between land and sea. It is a chance to slow down\, look properly\, and discover how much is happening in places that many people walk past without noticing. For visitors spending time in Lynmouth\, it is a good fit for families\, nature lovers and anyone looking for something active but not overcomplicated. \nConditions on the shoreline can change quickly\, so it is worth dressing for the weather and wearing footwear suitable for wet\, uneven rocks. Water shoes or sturdy wellies are encouraged. Nets\, buckets and guidance are provided on the day. \nAttendance is free. \nIf you would like to support this kind of work\, donations to CareMoor can be made at Lynmouth National Park Centre opposite. \nFor enquiries\, contact 07970 099116 or email cwray@exmoor-nationalpark.gov.uk
URL:https://visitlyntonandlynmouth.com/event/rock-pooling-with-the-rangers-exmoor-national-park-lynmouth/2026-08-26/
LOCATION:Exmoor National Park Centre\, The Esplanade\, Lynmouth\, EX35 6EQ
CATEGORIES:Kids,Educational,Family Event
ATTACH;FMTTYPE=image/jpeg:https://visitlyntonandlynmouth.com/wp-content/uploads/2026/01/Rockpooling.jpg
ORGANIZER;CN="Exmoor National Park Centre Lynmouth":MAILTO:NPCLynmouth@exmoor-nationalpark.gov.uk
END:VEVENT
BEGIN:VEVENT
DTSTART;TZID=Europe/London:20260828T200000
DTEND;TZID=Europe/London:20260828T220000
DTSTAMP:20260423T164859
CREATED:20250326T135157Z
LAST-MODIFIED:20260327T151931Z
UID:10005221-1787947200-1787954400@visitlyntonandlynmouth.com
SUMMARY:Last Friday Jazz Session
DESCRIPTION:Join us at our new venue … The Queens Pub in Lynton. The NEW home of the Lynton Jazz Club featuring your favourite band … The Stumblers and Guests.\n\n\n\nGreat Ales\, Wines & Spirits\nGreat Atmosphere!\nGreat Fun!\nGreat Food (Booking Essential: Tel: 01598 751646)\n\n\n\nFREE Admission | Donations Greatly Appreciated\n\n\nALL WELCOME!
URL:https://visitlyntonandlynmouth.com/event/last-friday-jazz-session-queens-pub/2026-08-28/
LOCATION:The Queens\, 8 Queen Street\, Lynton\, EX35 6AA\, United Kingdom
CATEGORIES:Live Music
ATTACH;FMTTYPE=image/webp:https://visitlyntonandlynmouth.com/wp-content/uploads/2025/03/Stumblers-Facebook-Events-Jazz-Queens.webp
END:VEVENT
BEGIN:VEVENT
DTSTART;VALUE=DATE:20260829
DTEND;VALUE=DATE:20260830
DTSTAMP:20260423T164900
CREATED:20260122T115524Z
LAST-MODIFIED:20260306T145038Z
UID:10008099-1787961600-1788047999@visitlyntonandlynmouth.com
SUMMARY:Lynmouth Raft Race 2026
DESCRIPTION:If you like your events messy\, hilarious\, and slightly unpredictable\, the Lynmouth Raft Race is not to be missed. \nTaking place in August 2026\, this legendary event sees teams attempt to race across the harbour on wildly imaginative\, home-made rafts – with varying levels of success. Some rafts even make it to the start line… which is all part of the fun. \nExpect maximum chaos\, enthusiastic crowds\, and the traditional barrage of flour bombs flying through the air as competitors battle the elements (and each other). It’s loud\, it’s daft\, and it’s one of Lynmouth’s most entertaining spectacles. \nA firm favourite for both locals and visitors\, the Raft Race is a brilliant example of Lynmouth’s playful spirit and love of a good laugh – best enjoyed with old clothes and a strong sense of humour.
URL:https://visitlyntonandlynmouth.com/event/lynmouth-raft-race-2026/
LOCATION:The Ancient Mariner\, The Ancient Mariner\, Lynmouth\, EX35 6EL\, United Kingdom
CATEGORIES:Half Term,Competition,Food & Drink,Kids,Social,Sporting Activity,Family Event
ATTACH;FMTTYPE=image/jpeg:https://visitlyntonandlynmouth.com/wp-content/uploads/2026/01/480433269_4081219922131721_1642294072623889794_n.jpg
END:VEVENT
END:VCALENDAR