BEGIN:VCALENDAR
VERSION:2.0
PRODID:-//Visit Lynton &amp; Lynmouth - ECPv6.15.20//NONSGML v1.0//EN
CALSCALE:GREGORIAN
METHOD:PUBLISH
X-WR-CALNAME:Visit Lynton &amp; Lynmouth
X-ORIGINAL-URL:https://visitlyntonandlynmouth.com
X-WR-CALDESC:Events for Visit Lynton &amp; Lynmouth
REFRESH-INTERVAL;VALUE=DURATION:PT1H
X-Robots-Tag:noindex
X-PUBLISHED-TTL:PT1H
BEGIN:VTIMEZONE
TZID:Europe/London
BEGIN:DAYLIGHT
TZOFFSETFROM:+0000
TZOFFSETTO:+0100
TZNAME:BST
DTSTART:20250330T010000
END:DAYLIGHT
BEGIN:STANDARD
TZOFFSETFROM:+0100
TZOFFSETTO:+0000
TZNAME:GMT
DTSTART:20251026T010000
END:STANDARD
BEGIN:DAYLIGHT
TZOFFSETFROM:+0000
TZOFFSETTO:+0100
TZNAME:BST
DTSTART:20260329T010000
END:DAYLIGHT
BEGIN:STANDARD
TZOFFSETFROM:+0100
TZOFFSETTO:+0000
TZNAME:GMT
DTSTART:20261025T010000
END:STANDARD
BEGIN:DAYLIGHT
TZOFFSETFROM:+0000
TZOFFSETTO:+0100
TZNAME:BST
DTSTART:20270328T010000
END:DAYLIGHT
BEGIN:STANDARD
TZOFFSETFROM:+0100
TZOFFSETTO:+0000
TZNAME:GMT
DTSTART:20271031T010000
END:STANDARD
END:VTIMEZONE
BEGIN:VEVENT
DTSTART;TZID=Europe/London:20261128T100000
DTEND;TZID=Europe/London:20261128T170000
DTSTAMP:20260419T131827
CREATED:20251203T184258Z
LAST-MODIFIED:20260414T204704Z
UID:10007855-1795860000-1795885200@visitlyntonandlynmouth.com
SUMMARY:Lynton Town Hall Christmas Market 2026
DESCRIPTION:Lynton Town Hall Christmas Market\nStep into a festive marketplace filled with sparkle\, creativity\, and Christmas cheer as the Lynton Town Hall Christmas Market returns for another magical year.\nInside the historic Town Hall\, you’ll discover a wonderful Christmas Market filled with beautifully curated selection of food\, drink\, craft\, and gift stalls — perfect for finding unique presents\, artisan treats\, and special seasonal buys. From handcrafted decorations to indulgent goodies\, our traders bring together the very best of local talent and festive charm.\nEnjoy the warm glow of the Christmas atmosphere as you browse:\n\nHandcrafted gifts\nLocal food & drink\nMulled spirits\nHot festive food\nSeasonal specials\nUnique independent traders\n\nThe market sits at the heart of the Lynton & Lynmouth Christmas Shopping Weekend\, with festive celebrations taking place across both villages — making it the perfect opportunity to shop local\, support small businesses\, and enjoy a wonderful seasonal day out.\nJoin us for two days of Christmas magic and discover why this market has become a must-visit festive tradition.
URL:https://visitlyntonandlynmouth.com/event/lynton-town-hall-christmas-market-2026/2026-11-28/
LOCATION:Lynton Town Hall\, Lee Road\, Lynton\, North Devon\, EX35 6HT\, United Kingdom
CATEGORIES:Christmas,Shopping,Food & Drink,Social,Local Markets,Family Event
ATTACH;FMTTYPE=image/webp:https://visitlyntonandlynmouth.com/wp-content/uploads/2025/12/Xmas-Market-2026-Event-Header.webp
END:VEVENT
BEGIN:VEVENT
DTSTART;TZID=Europe/London:20261129T100000
DTEND;TZID=Europe/London:20261129T160000
DTSTAMP:20260419T131827
CREATED:20251203T184258Z
LAST-MODIFIED:20260414T204704Z
UID:10007856-1795946400-1795968000@visitlyntonandlynmouth.com
SUMMARY:Lynton Town Hall Christmas Market 2026
DESCRIPTION:Lynton Town Hall Christmas Market\nStep into a festive marketplace filled with sparkle\, creativity\, and Christmas cheer as the Lynton Town Hall Christmas Market returns for another magical year.\nInside the historic Town Hall\, you’ll discover a wonderful Christmas Market filled with beautifully curated selection of food\, drink\, craft\, and gift stalls — perfect for finding unique presents\, artisan treats\, and special seasonal buys. From handcrafted decorations to indulgent goodies\, our traders bring together the very best of local talent and festive charm.\nEnjoy the warm glow of the Christmas atmosphere as you browse:\n\nHandcrafted gifts\nLocal food & drink\nMulled spirits\nHot festive food\nSeasonal specials\nUnique independent traders\n\nThe market sits at the heart of the Lynton & Lynmouth Christmas Shopping Weekend\, with festive celebrations taking place across both villages — making it the perfect opportunity to shop local\, support small businesses\, and enjoy a wonderful seasonal day out.\nJoin us for two days of Christmas magic and discover why this market has become a must-visit festive tradition.
URL:https://visitlyntonandlynmouth.com/event/lynton-town-hall-christmas-market-2026/2026-11-29/
LOCATION:Lynton Town Hall\, Lee Road\, Lynton\, North Devon\, EX35 6HT\, United Kingdom
CATEGORIES:Christmas,Shopping,Food & Drink,Social,Local Markets,Family Event
ATTACH;FMTTYPE=image/webp:https://visitlyntonandlynmouth.com/wp-content/uploads/2025/12/Xmas-Market-2026-Event-Header.webp
END:VEVENT
END:VCALENDAR